BEGIN:VCALENDAR
VERSION:2.0
PRODID:-//wp-events-plugin.com//7.2.3.1//EN
TZID:Europe/Warsaw
X-WR-TIMEZONE:Europe/Warsaw
BEGIN:VEVENT
UID:26243@night4u.pl
DTSTART;TZID=Europe/Warsaw:20190921T200000
DTEND;TZID=Europe/Warsaw:20190921T230000
DTSTAMP:20190903T190934Z
URL:https://night4u.pl/wydarzenia/koza-w-rzeszowie-klub-vinyl/
SUMMARY:Koza w Rzeszowie | Klub Vinyl
DESCRIPTION:noSleep zaprasza do klubu Vinyl na koncert jednego z najlepiej 
 zapowiadających się Polskich raperów młodego pokolenia - Kozy.   \n\nK
 up bilet:\nhttps://ticketos.pl/event/2341\n\nBilety: \nI pula - 30 PLN  \n
 II pula - 35 PLN  \nIII pula - 40 PLN  \n\n? Bilet VIP - 99 PLN ?\n* Wejś
 cie na koncert\n* Plakat A3\n* Uczestnictwo w próbie dźwięku\n* Spotkan
 ie z Kozą po próbie \n* Pierwszeństwo wejścia do klubu i zajęcia leps
 zych miejsc\n\n\n Organizator: noSleep  \n\nWSTĘP +16 \nPoniżej tylko z 
 pełnoprawnym opiekunem.
ATTACH;FMTTYPE=image/jpeg:https://night4u.pl/wp-content/uploads/2019/09/61
 311_image_69269756_882487578800318_4680519883027382272_o.jpg
CATEGORIES:podkarpackie
LOCATION:Klub Vinyl\, Fredry 4\, Rzeszów\, 35-005\, Poland
GEO:50.03998;22.00741
X-APPLE-STRUCTURED-LOCATION;VALUE=URI;X-ADDRESS=Fredry 4\, Rzeszów\, 35-00
 5\, Poland;X-APPLE-RADIUS=100;X-TITLE=Klub Vinyl:geo:50.03998,22.00741
END:VEVENT
BEGIN:VTIMEZONE
TZID:Europe/Warsaw
X-LIC-LOCATION:Europe/Warsaw
BEGIN:DAYLIGHT
DTSTART:20190331T030000
TZOFFSETFROM:+0100
TZOFFSETTO:+0200
TZNAME:CEST
END:DAYLIGHT
END:VTIMEZONE
END:VCALENDAR