BEGIN:VCALENDAR
VERSION:2.0
PRODID:-//wp-events-plugin.com//7.2.3.1//EN
TZID:Europe/Warsaw
X-WR-TIMEZONE:Europe/Warsaw
BEGIN:VEVENT
UID:42782@night4u.pl
DTSTART;TZID=Europe/Warsaw:20200208T220000
DTEND;TZID=Europe/Warsaw:20200209T060000
DTSTAMP:20200208T051928Z
URL:https://night4u.pl/wydarzenia/krak-up-osmy/
SUMMARY:Krak Up Ósmy
DESCRIPTION:Krakowska scena szczyci się wieloma świetnymi składami\, dla
 tego po raz kolejny szykujemy dla Was przegląd umiejętności rodzimych e
 kip działających na naszym podwórku. \n\nTak jak do tej pory -- by rado
 ść była podwójna -- będziemy robić to na dwóch scenach jednocześni
 e. Ósma edycja Krak Upu już 8 lutego. Bądźże z nami!\n\n\nSTAGE A (te
 chno)\n▸ NIC (KTLH live + Pastwa)\n▸ Przepływ (DZMK + CEZETEN + Not S
 o Pro)\n▸ TECHNO TECHYES (HiTrash + P98)\n \n🔊 nagłośnienie Void Ac
 oustics\n\nSTAGE B (drum'n'bass ||  jungle)\n▸ Bassowa Krowa (DJ Gretzky
 )\n▸ Futudrama (Kenjah + Kontrol) \n▸ God Bless DnB (Impolite + TRMTK)
  \n▸ Remont Basu/Partizans Crew (CooL Bid) \n▸ United Soundz (Dziubass
 )\n\n🔊 nagłośnienie MPN Sound System\n\n\nWEJŚCIE\n15 PLN lista FB (
 "wezmę udział") do 23.00\n20 PLN reszta\n\n\nWSPARCIE\nOff Radio Kraków
  || Elektroniczny Kraków || muno.pl || Going. || Break.FM || Drum And Bas
 s Kraków || NEVER Stop Raving
ATTACH;FMTTYPE=image/jpeg:https://night4u.pl/wp-content/uploads/2020/01/13
 5778_image_82842140_2556270711297378_7831577327556362240_o.jpg
CATEGORIES:małopolskie
LOCATION:Szpitalna 1\, Szpitalna 1\, Kraków\, 31-041\, Poland
GEO:50.06186;19.94065
X-APPLE-STRUCTURED-LOCATION;VALUE=URI;X-ADDRESS=Szpitalna 1\, Kraków\, 31-
 041\, Poland;X-APPLE-RADIUS=100;X-TITLE=Szpitalna 1:geo:50.06186,19.94065
END:VEVENT
BEGIN:VTIMEZONE
TZID:Europe/Warsaw
X-LIC-LOCATION:Europe/Warsaw
BEGIN:STANDARD
DTSTART:20191027T020000
TZOFFSETFROM:+0200
TZOFFSETTO:+0100
TZNAME:CET
END:STANDARD
END:VTIMEZONE
END:VCALENDAR