BEGIN:VCALENDAR
VERSION:2.0
PRODID:-//wp-events-plugin.com//7.2.3.1//EN
TZID:Europe/Warsaw
X-WR-TIMEZONE:Europe/Warsaw
BEGIN:VEVENT
UID:5731@night4u.pl
DTSTART;TZID=Europe/Warsaw:20190623T193000
DTEND;TZID=Europe/Warsaw:20190623T223000
DTSTAMP:20190325T221057Z
URL:https://night4u.pl/wydarzenia/krakow-cosmic-comedy-world-tour-an-edinb
 urgh-fringe-preview/
SUMMARY:Kraków: Cosmic Comedy World Tour - An Edinburgh Fringe Preview
DESCRIPTION:Kraków: Cosmic Comedy World Tour - An Edinburgh Fringe Preview
 \nSunday 23rd June 2019\n\n★★★★★ THE ACTS ★★★★★\n\nDha
 rmander Singh (UK)\nNik Coppin (UK)\n\nLocal Host: Marek Wawrzyniak\n\nJoi
 n the Group Chat for this event : http://bit.ly/2DDv8jZ\n\n★★★★★
  ABOUT DHARMANDER SINGH ★★★★★\n\nBased in Berlin\, Germany\, Bir
 mingham born Dharmander Singh has been entertaining crowds from Amsterdam 
 to Dubai for over 15 years. \n\nA comedy festival regular\, Dharmander per
 formed at Edinburgh Fringe and Birmingham Comedy Festival in 2017 with his
  acclaimed one-man show "Bollywood and Birmingham to Berlin and Brexit" (h
 ttps://www.brightonfringe.org/whats-on/bollywood-and-birmingham-to-berlin-
 and-brexit-134865/) for the first time. This show travels in regular inter
 vals through European countries such as Austria\, Germany\, Poland\, the C
 zech Republic and Italy. Last year he was part of the Edinburgh Fringe aga
 in and also performed his show in the Angel Comedy Club in London\, in Bir
 mingham and in Amman\, Jordan.\n\nHe has appeared on BBC radio on several 
 occasions and featured in the Scottish BAFTA winning film "Crying with Lau
 ghter". His style of comedy is light-hearted\, captivating\, warm\, entert
 aining and energetic with smatterings of social and political commentary.\
 n\nDharmander is also the regular compere and co-promoter of the popular c
 lub Cosmic Comedy Berlin which produces sell-out shows.\n\n"Dharmander's m
 ega-watt smile and brilliantly energetic style will win you over."\nSonya 
 Nemec (Blog: The Girl with the Edinburgh Tattoo https://sonyanemec.wordpre
 ss.com/2017/08/05/dharmander-singh/\, Edinburgh Fringe 2017)\n\n"Dharmande
 r is an amazing and mesmerizing presence on stage. You cannot help but lov
 e him."\nLynn Ruth Miller (Stand-up comedian\, entertainer\, 2017)\n\n"A w
 onderful show! Very funny and also quite moving. A personal story that tak
 es in religion\, politics and identity - with one-liners we were still quo
 ting days later!"\nStuart Parkinson (audience review\, 2018)\n\n★★★
 ★★ ABOUT NIK COPPIN ★★★★★\n\nA stand-up comic for more than 
 15 years\, Nik Coppin has performed all over the world and developed an in
 ternational cult following. He has performed many solo shows at the Edinbu
 rgh and Adelaide Fringe Festivals\, New Zealand and Melbourne Internationa
 l Comedy Festivals\, all over Australia and the inaugural Hollywood Fringe
  Festival in Los Angeles\, all to critical acclaim. \n\nHis confident\, af
 fable and energetic style of comedy is quick to build audience rapport\, a
 s he talks about subjects as wide-ranging as human nature\, his experience
 s in The Antipodes\, Europe and Asia\, his extensive knowledge of wildlife
 \, superheroes\, current affairs and his mixed-race up bringing in London.
  His mother is English and his father is from the Caribbean island of Barb
 ados. \n\n"Incredibly likable" - The Advertiser\, Adelaide Fringe 2016 \n\
 n“Coppin is clever and manages to captivate the audience at every turn
 ”- heckler.com.au \n\n"He talks at 100mph and generates an irresistible 
 atmosphere of good old-fashioned fun" - Chortle.co.uk\, Edinburgh Fringe F
 estival 2010\n\n★★★★★ TICKETS ★★★★★\n\nTickets include
  VAT\, limited number available on the door \n
ATTACH;FMTTYPE=image/jpeg:https://night4u.pl/wp-content/uploads/2019/01/17
 419_image_50789971_1125081044329692_3518368884543455232_o.jpg
CATEGORIES:małopolskie
LOCATION:Szpitalna 1\, Szpitalna 1\, Kraków\, 31-041\, Poland
GEO:50.06186;19.94065
X-APPLE-STRUCTURED-LOCATION;VALUE=URI;X-ADDRESS=Szpitalna 1\, Kraków\, 31-
 041\, Poland;X-APPLE-RADIUS=100;X-TITLE=Szpitalna 1:geo:50.06186,19.94065
END:VEVENT
BEGIN:VTIMEZONE
TZID:Europe/Warsaw
X-LIC-LOCATION:Europe/Warsaw
BEGIN:DAYLIGHT
DTSTART:20190331T030000
TZOFFSETFROM:+0100
TZOFFSETTO:+0200
TZNAME:CEST
END:DAYLIGHT
END:VTIMEZONE
END:VCALENDAR