BEGIN:VCALENDAR
VERSION:2.0
PRODID:-//wp-events-plugin.com//7.2.3.1//EN
TZID:Europe/Warsaw
X-WR-TIMEZONE:Europe/Warsaw
BEGIN:VEVENT
UID:30844@night4u.pl
DTSTART;TZID=Europe/Warsaw:20191030T200000
DTEND;TZID=Europe/Warsaw:20191030T223000
DTSTAMP:20191108T004147Z
URL:https://night4u.pl/wydarzenia/krakow-magic-show-dwa-oblicza-iluzji-5/
SUMMARY:Kraków Magic Show : "Dwa oblicza iluzji"
DESCRIPTION:„Dwa oblicza iluzji” to flagowy spektakl grupy Kraków Magi
 c Show. Zdobył on uznanie naszych widzów uzyskując ponad 100 pięciogwi
 azdkowych recenzji na Facebooku. Po przerwie  pokaz powraca w nieco odświ
 eżonej formie. \n\n„Dwa oblicza iluzji” budzi emocje balansujące na 
 pograniczu tajemnicy i zdumienia. To widowisko podczas którego dwa odręb
 ne charaktery przeniosą Was w świat prawdziwej magii. \n\n\n👍‘No po
  prostu magia! Człowiek się zastanawia - jak to się stało\, przecież 
 cały czas patrzyłam im na ręce!. Miło spędzony czas\, który nie wiad
 omo kiedy się kończy’ – Ania \n\n👍„NIE-SA-MO-WI-TE! Fenomenalny
  spektakl! Porywający\, ciekawy\, zabawny i kosmiczny.” – Kacper\n\n
 👍„Kraków Magic Show to jedno z najlepszych wydarzeń\, na którym mi
 ałam okazję być. Duża doza emocji\, istna magia\, po prostu wspaniałe
  wrażenia.”- Patrycja \n\nW dwa światy iluzji zabiorą Was:\n➡️Mic
 hał Skubida. \nJuż od pierwszej sekundy pokazu sprawi\, że będziecie z
 anosić się śmiechem\, jednocześnie przecierając oczy ze zdumienia. Zo
 baczycie między innymi jak poderwać dziewczynę przy użyciu odrobiny ma
 gii i jak rozmnażać pieniądze. Połączenie dobrego humoru\, luzu na sc
 enie i doświadczenia w iluzji działa na publiczność jak MAGIA.\n\n➡
 ️Michał Kulik\nZabierze Was do świata prawdziwej magii i udowodni\, ż
 e niemożliwe istnieje. Zaprezentuje między innymi najstarszą tajemnicę
  w historii iluzji\, i przeniesie Was w czasy kiedy na ziemi żyły osoby 
 potrafiące czytać w ludzkich umysłach. Przygotujcie się na podróż w 
 nieznane…\n\nShow poprowadzi Jurek Konstanty – groźny w swojej delika
 tności\, cichy w swojej głośności\, jawny współpracownik tajnych age
 ncji pozarządowych i integrator nizinnych szczytów abstrakcji. Zwycięzc
 a pozakonkursowego turnieju o nic 🎩\n\nAtmosferę wydarzenia uświetni 
 nastrojowe miejsce urządzone \nw stylu francuskiego kabaretu z lat dwudzi
 estych.\n\n📺Zobacz telewizyjne pokazy występujących:📺\n\nMichał S
 kubida – „Ludzik czyli One Man Show”\n\n\nMichał Kulik – ‘Mam T
 alent” \nhttps://vimeo.com/295999402\n\n➡️GDZIE: Klub Cabaret ul. Kr
 akowska 5\n➡️KIEDY: 30 października (środa)\n➡️START: 20.00 (Wst
 ęp od godziny 19.00)\n➡️CZAS TRWANIA: 120 minut \n\nBILETY: \nhttps:/
 /www.kupbilecik.pl/imprezy/43370/Krak%C3%B3w/Krak%C3%B3w+Magic+Show/\n\nCE
 NA: 39 zł \n\nUwaga👇\nDostępne bilety na balkonie w cenie 29 zł.\n\n
 Miejsca na sali rezerwowane są zgodnie z kolejnością zgłoszeń.\n\nIlo
 ść biletów na wydarzenie jest ograniczona. Jedynie wcześniejszy zakup 
 biletu przez stronę www.krkmagicshow.pl jest gwarancją wejścia na spekt
 akl.
ATTACH;FMTTYPE=image/jpeg:https://night4u.pl/wp-content/uploads/2019/10/71
 182_image_72457408_2388397484764353_1697331862327787520_n.jpg
CATEGORIES:małopolskie
LOCATION:Kraków Magic Show\, Kraków\, Poland
GEO:50.05099;19.94211
X-APPLE-STRUCTURED-LOCATION;VALUE=URI;X-ADDRESS=Kraków\, Poland;X-APPLE-RA
 DIUS=100;X-TITLE=Kraków Magic Show:geo:50.05099,19.94211
END:VEVENT
BEGIN:VTIMEZONE
TZID:Europe/Warsaw
X-LIC-LOCATION:Europe/Warsaw
BEGIN:STANDARD
DTSTART:20191027T020000
TZOFFSETFROM:+0200
TZOFFSETTO:+0100
TZNAME:CET
END:STANDARD
END:VTIMEZONE
END:VCALENDAR