BEGIN:VCALENDAR
VERSION:2.0
PRODID:-//wp-events-plugin.com//7.2.3.1//EN
TZID:Europe/Warsaw
X-WR-TIMEZONE:Europe/Warsaw
BEGIN:VEVENT
UID:35634@night4u.pl
DTSTART;TZID=Europe/Warsaw:20191120T193000
DTEND;TZID=Europe/Warsaw:20191120T213000
DTSTAMP:20191119T052045Z
URL:https://night4u.pl/wydarzenia/krakowskie-szybkie-randki-28/
SUMMARY:Krakowskie szybkie randki!
DESCRIPTION:Serdecznie zapraszamy na kolejne spotkanie w Krakowie!\n\nGrupy
  wiekowe:\n💘 6.11 - grupa 24-33 lat\n💘 13.11 - grupa 27-36 lat\n💘
  17.11 - grupa 19-25 lat\n💘 20.11 - grupa 27-35 lat\n💘 24.11 - grupa
  24-34 lat\n💘 27.11 - grupa 30-43 lat\n\nDodatkowo -20% na barze na wsz
 ystkich uczestników! 🥂\n\nNa czym polegają szybkie randki❓\n➡ w s
 potkaniu uczestniczy ok. 26 osób (13 mężczyzn i 13 kobiet)\n➡ uczestn
 icy otrzymują kartę do głosowania\, na której zaznaczają ulubionych r
 ozmówców\n➡ każdy z Panów ma okazję porozmawiać z każdą z Pań (
 i odwrotnie)\n➡ jedna rozmowa trwa ok. 5 – 7 minut\n➡ dźwięk dzwon
 ka sygnalizuje uczestnikom kiedy należy kończyć rozmowę i rozpocząć 
 kolejną\n➡ pod koniec spotkania uczestnicy oddają karty organizatorom\
 n➡ jeżeli dwie osoby oddały na siebie głosy\, wówczas otrzymują dan
 e kontaktowe\n➡wyniki rozsyłamy jeszcze tego samego dnia :)\n➡ spotka
 nie trwa ok. 1\,5 h\n\nBilety na spotkanie dostępne tutaj ⤵⤵⤵\nhttp
 ://speed-dates.pl/randki/krakow/\n\nP.S. Sprawdźcie nasz nowy portal rand
 kowy 😽\n💞 http://www.speed-coffee.pl/ 💞
ATTACH;FMTTYPE=image/jpeg:https://night4u.pl/wp-content/uploads/2019/11/94
 270_image_75056041_2437175196336630_2667901317678104576_o-2.jpg
CATEGORIES:małopolskie
LOCATION:B4 Bracka 4\, ul.Bracka 4\, Kraków\, 31-005\, Poland
GEO:50.06042;19.93637
X-APPLE-STRUCTURED-LOCATION;VALUE=URI;X-ADDRESS=ul.Bracka 4\, Kraków\, 31-
 005\, Poland;X-APPLE-RADIUS=100;X-TITLE=B4 Bracka 4:geo:50.06042,19.93637
END:VEVENT
BEGIN:VTIMEZONE
TZID:Europe/Warsaw
X-LIC-LOCATION:Europe/Warsaw
BEGIN:STANDARD
DTSTART:20191027T020000
TZOFFSETFROM:+0200
TZOFFSETTO:+0100
TZNAME:CET
END:STANDARD
END:VTIMEZONE
END:VCALENDAR