BEGIN:VCALENDAR
VERSION:2.0
PRODID:-//wp-events-plugin.com//7.2.3.1//EN
TZID:Europe/Warsaw
X-WR-TIMEZONE:Europe/Warsaw
BEGIN:VEVENT
UID:19729@night4u.pl
DTSTART;TZID=Europe/Warsaw:20190622T210000
DTEND;TZID=Europe/Warsaw:20190623T050000
DTSTAMP:20190619T115324Z
URL:https://night4u.pl/wydarzenia/krol-pompy-w-niebie-taito-22-06/
SUMMARY:Król Pompy w Niebie | Taito 22.06
DESCRIPTION:Jak impreza\, to tylko do Nieba ? W pierwszą wakacyjną sobot
 ę mamy dla pompujące atrakcje ? Za konsolą na sali house stanie m.in Ta
 ito. Jego najnowsze produkcje\, szalony styl i nasi klubowicze stworzą mi
 eszankę\, która wygeneruje potężne pokłady mocy. Rezerwujcie czas i w
 bijajcie do 7 Nieba 
ATTACH;FMTTYPE=image/jpeg:https://night4u.pl/wp-content/uploads/2019/06/47
 521_image_64727032_2410040785894403_1393850851876929536_o.jpg
CATEGORIES:dolnośląskie
LOCATION:Seven Heaven Legnica\, kard. Bolesława Kominka 1\, Legnica\, 59-2
 20\, Poland
GEO:51.210306;16.152576
X-APPLE-STRUCTURED-LOCATION;VALUE=URI;X-ADDRESS=kard. Bolesława Kominka 1\
 , Legnica\, 59-220\, Poland;X-APPLE-RADIUS=100;X-TITLE=Seven Heaven Legnic
 a:geo:51.210306,16.152576
END:VEVENT
BEGIN:VTIMEZONE
TZID:Europe/Warsaw
X-LIC-LOCATION:Europe/Warsaw
BEGIN:DAYLIGHT
DTSTART:20190331T030000
TZOFFSETFROM:+0100
TZOFFSETTO:+0200
TZNAME:CEST
END:DAYLIGHT
END:VTIMEZONE
END:VCALENDAR