BEGIN:VCALENDAR
VERSION:2.0
PRODID:-//wp-events-plugin.com//7.2.3.1//EN
TZID:Europe/Warsaw
X-WR-TIMEZONE:Europe/Warsaw
BEGIN:VEVENT
UID:46858@night4u.pl
DTSTART;TZID=Europe/Warsaw:20200320T190000
DTEND;TZID=Europe/Warsaw:20200320T190000
DTSTAMP:20200318T173729Z
URL:https://night4u.pl/wydarzenia/kruk-premiera-plyty-nibykwiaty-gosc-noho
 no/
SUMMARY:Przeniesiony/Krůk Premiera Płyty Nibykwiaty + Gość Nohono
DESCRIPTION:KONCERT PRZENIESIONY NA INNY TERMIN /TBA\n\n💀🌸🌼🌺
 💀🌸🌼🌺🌸💀🌼🌺🌸🌼💀🌼🌺🌸🌼🌺🌸🌼
 💀🌺💀\n\nW pierwszy dzień wiosny\, aby uczcić odejście niby zimy
  i przywitać niby wiosnę z jej niby nadzieją\, zapraszamy na koncert ze
 społu Krůk promujący wydanie pierwszego albumu zespołu "Nibykwiaty".  
 Tego wieczoru zagrają również goście z Poznania\, zespół NOHONO\, kt
 órego muzyka doskonale pasuje do tanecznej melancholii przełomu pór rok
 u 🌺🌸🌼💀🦄\n\n20 marca album "Nibykwiaty" bedzie dostępny na 
 wszytskich platfromach cyfrowych\, a w trakcie wydarzenia będzie można z
 akupić album na nośnikach fizycznych. \n\n🌺🌸💀🦄\nBILETY: \nI 
 PULA - 25 zł\nII PULA - 30 zł (bilety będą dostępne także na bramce)
 \nkup tutaj: https://tiny.pl/t686l\n🌺🌸💀🦄\n\nMuzyka zespołu Kr
 ůk to projekt łączący motywy słowiańskie\, plemienne z nowoczesnym p
 ost-rockiem i elektroniką z okolic IDM. Koncerty zespołu to mieszanka tr
 ansowych brzmień\, ekstatycznych gitarowych melodii\, czasem ciężkich j
 ak zachodzące słońce w górach i czułej elektroniki. Krůk to pięć o
 sób: Łukasz Warzyński (gitara basowa\, sample)\, Daniel Staszyński (gi
 tara elektryczna)\, Michał Cieślukowski (perkusja\, pad perkusyjny)\, Ge
 org Mikkel (klawisze\, syntezatory\, gitara) oraz Daisy Kowalsky – poetk
 a i wokalistka odpowiedzialna w zespole za teksty\, śpiew\, czasem klątw
 y. \n\nAlbum "Nibykwiaty" powstał z potrzeby tańca do smutnych tekstów\
 , z tęsknoty do szaleństwa przy rozrywającyh serce melodiach\, z potrze
 by połączenia brzmień dawnych z tymi współczesnymi. Tańczmy! Nie wia
 domo jak daleko jeszcze rozciąga się przed nami niby przyszłość! \n\n
 Od 2018 Krůk regularnie koncertuje\, w klubach\, domach kultury\, a takż
 e na festwialach i koncertach plenerowych. MIędzy innymi na Festiwalu Ost
 oya\, na Festiwalu Mitologii Słowiańskiej\, gdzie przedstawił swoją we
 rsję slavic music\, a także jako support przed Fisz Emande Tworzywo. W c
 zerwcu 2018 zespół wydał swoją pierwszą EP o nazwie Krůk.  Na począ
 tku roku 2019 ukazał się singiel zanim powiem wraz z 3 remiksami.\n\nSin
 giel Ogień\nhttps://youtu.be/9ttXi0UBknI\n\nSingiel Zanim Powiem\nhttps:/
 /youtu.be/YPjPJBenTeY\n\nEP Krůk\nhttps://www.youtube.com/playlist?list=P
 Lg-xc4b3ZbyDJFeSqwU344CcjKihihtuO\n\n💀🌸🌼🌺💀🌸🌼🌺🌸
 💀🌼🌺🌸🌼💀🌼🌺🌸🌼🌺🌸🌼💀🌺💀\n\nNOHONO
  to poznańska elektroniczna grupa artystyczna założona na początku 201
 5 roku. Jej skład tworzą osobowości o bardzo zróżnicowanej przeszło
 ści artystycznej\, łączące ze sobą wiele dziedzin sztuki. Główną i
 deą projektu jest łączenie doświadczeń i umiejętności poszczególny
 ch członków zespołu w celu zapewnienia kompaktowego\, nastrojowego doś
 wiadczenia audiowizualnego. \n\nNOHONO na scenie to mieszanka żywiołowej
  elektroniki\, żywych instrumentów\, hipnotyzującego wokalu oraz wizual
 izacji tworzonych w oparciu o technologię 3D mappingu. Wszystkie te eleme
 nty tworzone na żywo podczas występu sprawiają\, że dźwięk i świat
 ło przestają być osobnymi elementami\, łącząc się w spójną cało
 ść. \n\nGrupa grała na takich wydarzeniach jak: Spring Break Festival\,
  Art&amp\;Fashion Festival by Grażyna Kulczyk\, Summer Contrast Festival\
 , Juwenalia Poznań\, Sofar Poznań\, Kaskada Festival\, support przed Dar
 ia Zawiałow\, support przed Pillowtalk\, Wielka Orkiestra Świątecznej p
 omocy i wiele innych. \n\nMuzyka zespołu została doceniona przez takie l
 abele jak: Nextpop (wydany cyfrowo rework utworu „Oly. - Rainhill)\, Kay
 ax (2gie miejsce w konkursie 2track na rework utworu „Kroki - Who you ar
 e / kwalifikacja do programu My Name Is New)\, czy Sony (3 miejsce w konku
 rsie 2track na rework utworu „Daria Zawiałow - Kundel bury).\n\n💀
 🌸🌼🌺💀🌸🌼🌺🌸💀🌼🌺🌸🌼💀🌼🌺🌸🌼
 🌺🌸🌼💀🌺💀
ATTACH;FMTTYPE=image/jpeg:https://night4u.pl/wp-content/uploads/2020/02/15
 4287_image_86351844_724393624756801_5006017905154850816_n.jpg
CATEGORIES:mazowieckie
LOCATION:Klub Hydrozagadka\, 11 listopada 22\, 03-436 Warszawa\, Poland\, P
 raga\, 03-436\, Poland
GEO:52.259283;21.036925
X-APPLE-STRUCTURED-LOCATION;VALUE=URI;X-ADDRESS=11 listopada 22\, 03-436 Wa
 rszawa\, Poland\, Praga\, 03-436\, Poland;X-APPLE-RADIUS=100;X-TITLE=Klub 
 Hydrozagadka:geo:52.259283,21.036925
END:VEVENT
BEGIN:VTIMEZONE
TZID:Europe/Warsaw
X-LIC-LOCATION:Europe/Warsaw
BEGIN:STANDARD
DTSTART:20191027T020000
TZOFFSETFROM:+0200
TZOFFSETTO:+0100
TZNAME:CET
END:STANDARD
END:VTIMEZONE
END:VCALENDAR