BEGIN:VCALENDAR
VERSION:2.0
PRODID:-//wp-events-plugin.com//7.2.3.1//EN
TZID:Europe/Warsaw
X-WR-TIMEZONE:Europe/Warsaw
BEGIN:VEVENT
UID:4979@night4u.pl
DTSTART;TZID=Europe/Warsaw:20190127T200000
DTEND;TZID=Europe/Warsaw:20190127T230000
DTSTAMP:20190124T163115Z
URL:https://night4u.pl/wydarzenia/krystiofons-komedia-improwizowana-na-jat
 kach-2/
SUMMARY:Krystiofons - komedia improwizowana na Jatkach!
DESCRIPTION:Zagramy format No Hero - poznamy różne postaci zmagające si
 ę z codziennością. Ich przeżycia\, relacje oraz przygody tworzą jedna
 k coś więcej\, niż tylko zbiór niezależnych od siebie historii. Te po
 jedyncze wydarzenia na naszych oczach będą kształtować wspólną opowi
 eść\, która nie ma głównego bohatera\, ale każda postać odgrywa w n
 iej swoją rolę.\n\nStart - 20:00\nWstęp płatny - 10 PLN\n\nTo co? Widz
 imy się na Jatkach!
ATTACH;FMTTYPE=image/jpeg:https://night4u.pl/wp-content/uploads/2019/01/15
 796_image_50467844_2202573603134150_3704099793161682944_n.jpg
CATEGORIES:dolnośląskie
LOCATION:Klub Na Jatkach\, Św. Elżbiety 3/4\, Wroclaw\, 50-111\, Poland
GEO:51.112176;17.030613
X-APPLE-STRUCTURED-LOCATION;VALUE=URI;X-ADDRESS=Św. Elżbiety 3/4\, Wrocla
 w\, 50-111\, Poland;X-APPLE-RADIUS=100;X-TITLE=Klub Na Jatkach:geo:51.1121
 76,17.030613
END:VEVENT
BEGIN:VTIMEZONE
TZID:Europe/Warsaw
X-LIC-LOCATION:Europe/Warsaw
BEGIN:STANDARD
DTSTART:20181028T020000
TZOFFSETFROM:+0200
TZOFFSETTO:+0100
TZNAME:CET
END:STANDARD
END:VTIMEZONE
END:VCALENDAR