BEGIN:VCALENDAR
VERSION:2.0
PRODID:-//wp-events-plugin.com//7.2.3.1//EN
TZID:Europe/Warsaw
X-WR-TIMEZONE:Europe/Warsaw
BEGIN:VEVENT
UID:20040@night4u.pl
DTSTART;TZID=Europe/Warsaw:20190629T210000
DTEND;TZID=Europe/Warsaw:20190630T050000
DTSTAMP:20190625T183520Z
URL:https://night4u.pl/wydarzenia/kryxo-b-day-nexboy-dbl-patrick-velleno-v
 nalogic/
SUMMARY:Kryxo B-Day // Nexboy // Dbl // Patrick Velleno // Vnalogic
DESCRIPTION:Uwaga Aniołki ??\nW Sobotę swoje urodziny Świętuje: KRYXO 
 ❗❗\n\nTej Nocy zagrają: \n? NEXBOY\n? DBL\n? Patrick Velleno\n? Vnalo
 gic\n? DJ X-Meen\n\nSTART 21:00 // WSTĘP DLA OSÓB PEŁNOLETNICH // SELEK
 CJA\n\nREZERWACJE: http://bit.ly/2w3r4FG.
ATTACH;FMTTYPE=image/jpeg:https://night4u.pl/wp-content/uploads/2019/06/48
 202_image_64882551_2215917271789255_8555792591294038016_o.jpg
CATEGORIES:lubuskie
LOCATION:Heaven Zielona Góra\, ul. Generała Józefa Sowińskiego 38 C\, Z
 ielona Góra\, 65-067\, Poland
GEO:51.934371;15.509862
X-APPLE-STRUCTURED-LOCATION;VALUE=URI;X-ADDRESS=ul. Generała Józefa Sowi
 ńskiego 38 C\, Zielona Góra\, 65-067\, Poland;X-APPLE-RADIUS=100;X-TITLE
 =Heaven Zielona Góra:geo:51.934371,15.509862
END:VEVENT
BEGIN:VTIMEZONE
TZID:Europe/Warsaw
X-LIC-LOCATION:Europe/Warsaw
BEGIN:DAYLIGHT
DTSTART:20190331T030000
TZOFFSETFROM:+0100
TZOFFSETTO:+0200
TZNAME:CEST
END:DAYLIGHT
END:VTIMEZONE
END:VCALENDAR