BEGIN:VCALENDAR
VERSION:2.0
PRODID:-//wp-events-plugin.com//7.2.3.1//EN
TZID:Europe/Warsaw
X-WR-TIMEZONE:Europe/Warsaw
BEGIN:VEVENT
UID:10447@night4u.pl
DTSTART;TZID=Europe/Warsaw:20190328T220000
DTEND;TZID=Europe/Warsaw:20190329T060000
DTSTAMP:20190318T200130Z
URL:https://night4u.pl/wydarzenia/krzysztof-krawczyk-tribute-x-impreza-int
 egracyjna-uek-x-four/
SUMMARY:Krzysztof Krawczyk Tribute x Impreza integracyjna UEK x FOUR
DESCRIPTION:Szykuje się kolejna super impreza UEKu! ❤️. Tym razem jest
  to głównie after dla wszystkich mostowiczów ?. Uczestnicy z każdego m
 iasta będą wymieniać się przygodami podczas swoich wyjazdów? \nPrzyjd
 źcie i pokażcie jeszcze raz\, jak wyglądają imprezy z wami❤️\n\nA 
 z naszej strony menu czwartkowe dla was:\nDo 23:14 za 4PLN:\n-piwko\n-shot
  wódki\n-whisky z colą\n- sex on the beach\n\nStartujemy 22:00
ATTACH;FMTTYPE=image/jpeg:https://night4u.pl/wp-content/uploads/2019/03/27
 555_image_53619807_1229877563843318_8501987272529281024_o.jpg
CATEGORIES:małopolskie
LOCATION:Four Music Club\, ul. Jagiellońska 6\, Kraków\, 31-010\, Poland
GEO:50.06278;19.93536
X-APPLE-STRUCTURED-LOCATION;VALUE=URI;X-ADDRESS=ul. Jagiellońska 6\, Krak
 ów\, 31-010\, Poland;X-APPLE-RADIUS=100;X-TITLE=Four Music Club:geo:50.06
 278,19.93536
END:VEVENT
BEGIN:VTIMEZONE
TZID:Europe/Warsaw
X-LIC-LOCATION:Europe/Warsaw
BEGIN:STANDARD
DTSTART:20181028T020000
TZOFFSETFROM:+0200
TZOFFSETTO:+0100
TZNAME:CET
END:STANDARD
END:VTIMEZONE
END:VCALENDAR