BEGIN:VCALENDAR
VERSION:2.0
PRODID:-//wp-events-plugin.com//7.2.3.1//EN
TZID:Europe/Warsaw
X-WR-TIMEZONE:Europe/Warsaw
BEGIN:VEVENT
UID:2050@night4u.pl
DTSTART;TZID=Europe/Warsaw:20190120T190000
DTEND;TZID=Europe/Warsaw:20190120T210000
DTSTAMP:20181231T132924Z
URL:https://night4u.pl/wydarzenia/krzysztof-krawczyk-warszawa/
SUMMARY:Krzysztof Krawczyk | Warszawa
DESCRIPTION:Zapraszamy na Koncert Krzysztofa Krawczyka w niedzielę 20. sty
 cznia!  \n\nKrzysztof Krawczyk debiutował w 1963 roku w zespole Trubadurz
 y\, z którym w różnych składach personalnych pracował do 1976 roku. N
 ajwiększe sukcesy odnieśli Trubadurzy w składzie: Ryszard Poznakowski\,
  Krzysztof Krawczyk\, Marian Lichtmann\, Sławek Kowalewski. Największe p
 rzeboje: „Znamy się tylko z widzenia”\, „Krajobrazy”\, „Byłaś
  tu”\, „Kim jesteś”\, „Ej\, Sobótka\, Sobótka”. Obok Czerwony
 ch Gitar był to kultowy zespół tamtego okresu.\n\nW 1974 r. miał miejs
 ce solowy debiut Krzysztofa Krawczyka podczas festiwalu w Opolu\, a niespe
 łna rok później nagrane zostały takie przeboje jak „Rysunek na szkle
 ” i „Parostatek”.\nNa przestrzeni lat zdobył wiele prestiżowych na
 gród\, m.in. podczas Festiwalu w Opolu czy Top Trendy\, a w jego ręce tr
 afiły Fryderyki\, Telekamera czy Super Jedynki.\n\nW 2008 r. 45 lecie dro
 gi artystycznej Krzysztofa Krawczyka obchodzone było podczas Festiwalu To
 p Trendy w Sopocie recitalem pt. Życie jak wino.\n\n____________________\
 nSzczegółowe informacje:\n\nData: 20. stycznia 2019 (niedziela)\nGodzina
 : 18:00 wejście\, 19:00 początek koncertu\nBilety: 39 zł / przedsprzeda
 ż na stronie https://rezerwacje.hulakula.com.pl/bilety/30\nBilety w dniu 
 koncertu: 49 zł\n\nUwagi: bilet wstępu na koncert nie gwarantuje miejsca
  siedzącego!
ATTACH;FMTTYPE=image/jpeg:https://night4u.pl/wp-content/uploads/2018/12/81
 17_image_44327500_10157799207794128_3911752708779933696_o.jpg
CATEGORIES:mazowieckie
LOCATION:Hulakula Rozrywkowe Centrum Miasta\, ul. Jagiellońska 82b\, Warsa
 w\, 03-301\, Poland
GEO:52.273342;21.017125
X-APPLE-STRUCTURED-LOCATION;VALUE=URI;X-ADDRESS=ul. Jagiellońska 82b\, War
 saw\, 03-301\, Poland;X-APPLE-RADIUS=100;X-TITLE=Hulakula Rozrywkowe Centr
 um Miasta:geo:52.273342,21.017125
END:VEVENT
BEGIN:VTIMEZONE
TZID:Europe/Warsaw
X-LIC-LOCATION:Europe/Warsaw
BEGIN:STANDARD
DTSTART:20181028T020000
TZOFFSETFROM:+0200
TZOFFSETTO:+0100
TZNAME:CET
END:STANDARD
END:VTIMEZONE
END:VCALENDAR