BEGIN:VCALENDAR
VERSION:2.0
PRODID:-//wp-events-plugin.com//7.2.3.1//EN
TZID:Europe/Warsaw
X-WR-TIMEZONE:Europe/Warsaw
BEGIN:VEVENT
UID:4906@night4u.pl
DTSTART;TZID=Europe/Warsaw:20190323T200000
DTEND;TZID=Europe/Warsaw:20190323T220000
DTSTAMP:20190122T193614Z
URL:https://night4u.pl/wydarzenia/krzysztof-zalewski-wroclaw-23-03-2019-zm
 iana-daty/
SUMMARY:Krzysztof Zalewski / Wrocław / 23.03.2019 - Zmiana Daty!
DESCRIPTION:Szanowni Państwo\,\n\nZ przyczyn logistycznych\, niezależnych
  zarówno od Organizatora jak i Artysty\, zaplanowany na 16.03.2019 koncer
 t Krzysztofa Zalewskiego zostaje przeniesiony. Nowa data wydarzenia to 23.
 03.2019. Miejsce i godzina koncertu pozostają niezmienione (Centrum Konce
 rtowe A2\, 20:00). Zapewniamy\, że bilety\, które zostały do tej pory z
 akupione\, zachowują swoją ważność.\n\nZa zaistniałą sytuację serd
 ecznie przepraszamy i mamy nadzieję\, do zobaczenia na koncercie 23 marca
 !\n\nZespół Good Taste Production\n\n-----------------------------------
 ---------\n\n\nKrzysztof Zalewski \n23 marca 2019\, godz. 20:00 (sobota) \
 nCentrum Koncertowe A2\, ul. Góralska 5\, Wrocław\n\nBilety w cenie: 79 
 zł [pula I]\, 99 zł [pula II]\nBilety dostępne na: www.eventim.pl/goodt
 aste\, www.ebilet.pl oraz w sklepach sieci Empik\, Saturn i Media Markt \n
 \nUwaga! Zakup biletów poza autoryzowanymi punktami sprzedaży (Facebook\
 , aukcje internetowe itp.) stwarza ryzyko zakupu biletów nieoryginalnych 
 lub nieważnych\, które nie umożliwią wejścia na koncert.\n\nKrzysztof
  Zalewski\, to prawdziwa sceniczna bestia. Przekonał się o tym każdy\, 
 kto był kiedyś na show artysty. Wokalista\, muzyk i kompozytor ogłasza 
 właśnie marcową trasę\, która podsumowuje jego dotychczasowe koncerto
 we poczynania\, ale co najważniejsze\, podczas koncertów fani będą mog
 li usłyszeć premierowe utwory zapowiadające nową płytę. \n\nZalewski
  o nadchodzącej trasie:\nŁuhuu!!! Wracamy na klubowy szlak! I znów będ
 zie gorąco i będziemy się wspólnie gotować\, tańczyć i rozbierać. 
 Przeplotą się piosenki zeligowe i złote\, ale też przetestujemy kilka 
 nowych piosenek\, i jakiś letni przebój… Szyjemy nowe meduzy w ramach 
 wystroju i widzimy się już niebawem w całej Polsce!\n\nPotrzeba kontakt
 u z publicznością to nieodłącznym element życia Krzysztofa Zalewskieg
 o. To\, że jest to człowiek orkiestra\, który nie może żyć bez sceny
  – wiedzą już wszyscy. Najpierw były koncerty zagrane w prawie każdy
 m zakątku Polski z materiałem z „Zeliga”. Później niesamowity one 
 man show\, gdzie Krzysztof jeden jedyny na scenie wykonywał nowe wersje z
 awiłych numerów z debiutanckiego albumu. \n\nPrzełomem w jego twórczo
 ści była wydana w 2016 roku płyta „Złoto” – zresztą ozłoconej 
 już przez Związek Producentów Audio Video. Na tym albumie możemy usły
 szeć\, że mniej znaczy więcej\, że to\, co ciche i subtelne\, często 
 wybrzmiewa głośniej od huku przesterowanych gitar. Nie można jednak pow
 iedzieć\, że na „Złoto” złożyły się same ballady\, śpiewane do
  wtóru łkającej cicho gitar. Dominują tu numery dynamiczne\, czy wręc
 z drapieżne\, które były wytańczone przez fanów na koncertach do osta
 tnich dźwięków. Uproszczone aranżacje\, organiczne brzmienie i bardzie
 j bezpośredni przekaz zostały docenione przez dziesiątki tysięcy fanó
 w na koncertach w całej Polsce. \n\nKolejny spektakularny sukces przynios
 ła Krzyśkowi płyta „ Zalewski śpiewa Niemena”. Koncerty zagrane w 
 wyjątkowym składzie\, które promowały to wydawnictwo początkowo grane
  w klubach\, przeniosły się do filharmonii i zabrzmiały w najpiękniejs
 zych koncertowych salach w Polsce. \n\nWakacje to zazwyczaj pracowity okre
 s w życiu Zalewskiego. Ale te tegoroczne okazały się wyjątkowe. Krzysi
 ek skomponował i napisał tekst do hitowego utworu „Początek” który
  razem z Dawidem Podsiadło i Kortezem prezentował prawie każdej wakacyj
 nej soboty wielotysięcznej publiczności koncertów Męskiego Grania.\n \
 nTymczasem\, po zakończeniu wyprzedanej jesiennej trasy z utworami Czesł
 awa Niemena\, Krzysztof nie pozwala długo czekać swoim fanom na możliwo
 ść wspólnego śpiewania i tańczenia. Wraz z nadejściem wiosny\, 1 mar
 ca rusza w trasę podsumowującą jego dotychczasowe koncertowe poczynania
 . Na wiosennych koncertach usłyszymy zarówno utwory z „Zeliga”\, „
 Złota”\, kilka niemenowych szlagierów\, ale przede wszystkim po raz pi
 erwszy fani będą mogli usłyszeć całkowicie nowe utwory\, przygotowywa
 ne na nowy album\, którego premiera planowana jest na przyszły rok.  \n\
 nDaty trasy koncertowej:\n\n01.03 / RADOM\n02.03 / WODZISŁAW ŚLĄSKI\n07
 .03 / TORUŃ\n08.03 / TCZEW\n09.03 / GRUDZIĄDZ\n14.03 / SZCZECIN\n15.03 /
  POZNAŃ\n16.03 / WROCŁAW\n17.03 / KRAKÓW\n19.03 / KATOWICE\n20.03 / WAR
 SZAWA\n24.03 / ŁÓDŹ\n25.03 / GDAŃSK\n31.03 / BIAŁYSTOK\n01.04 / AUGUS
 TÓW\n\nRegulamin Imprezy dostępny na: www.goodtaste.pl/regulamin
ATTACH;FMTTYPE=image/jpeg:https://night4u.pl/wp-content/uploads/2019/01/15
 634_image_47431441_2059106864111702_2809387058055872512_o.jpg
CATEGORIES:dolnośląskie
LOCATION:A2 - Centrum Koncertowe\, Góralska 5\, Wroclaw\, 53-610\, Poland
GEO:51.108613;17.001703
X-APPLE-STRUCTURED-LOCATION;VALUE=URI;X-ADDRESS=Góralska 5\, Wroclaw\, 53-
 610\, Poland;X-APPLE-RADIUS=100;X-TITLE=A2 - Centrum Koncertowe:geo:51.108
 613,17.001703
END:VEVENT
BEGIN:VTIMEZONE
TZID:Europe/Warsaw
X-LIC-LOCATION:Europe/Warsaw
BEGIN:STANDARD
DTSTART:20181028T020000
TZOFFSETFROM:+0200
TZOFFSETTO:+0100
TZNAME:CET
END:STANDARD
END:VTIMEZONE
END:VCALENDAR