BEGIN:VCALENDAR
VERSION:2.0
PRODID:-//wp-events-plugin.com//7.2.3.1//EN
TZID:Europe/Warsaw
X-WR-TIMEZONE:Europe/Warsaw
BEGIN:VEVENT
UID:32706@night4u.pl
DTSTART;TZID=Europe/Warsaw:20200119T190000
DTEND;TZID=Europe/Warsaw:20200119T233000
DTSTAMP:20200331T191300Z
URL:https://night4u.pl/wydarzenia/ksu-nauka-o-gownie-psy-wojny/
SUMMARY:SOLD OUT! KSU\, Nauka o Gównie \, Psy Wojny | 19.01.20 Wrocław
DESCRIPTION:KSU\, Nauka o Gównie \, Psy Wojny\n\nWrocław  – 19.01.2020 
 – Stary Klasztor ul. Jana Ewangelisty Purkyniego 1\nOtwarcie Bram 18:00 
 Start 19:00\n\nUprzejmie dziękujemy za ogromne zainteresowanie koncertem!
  W związku z Waszymi pytaniami chcielibyśmy poinformować\, że nie mamy
  już żadnych biletów na to wydarzenie i NIE BĘDZIE można ich kupić p
 rzed koncertem na bramce. Zapraszamy na inne koncerty Galicja Productions
ATTACH;FMTTYPE=image/jpeg:https://night4u.pl/wp-content/uploads/2020/01/79
 900_image_82618253_3372020989536434_5249047882274701312_o.jpg
CATEGORIES:dolnośląskie
LOCATION:Stary Klasztor\, Purkyniego 1\, Wroclaw\, 50-155\, Poland
GEO:51.110198;17.039162
X-APPLE-STRUCTURED-LOCATION;VALUE=URI;X-ADDRESS=Purkyniego 1\, Wroclaw\, 50
 -155\, Poland;X-APPLE-RADIUS=100;X-TITLE=Stary Klasztor:geo:51.110198,17.0
 39162
END:VEVENT
BEGIN:VTIMEZONE
TZID:Europe/Warsaw
X-LIC-LOCATION:Europe/Warsaw
BEGIN:STANDARD
DTSTART:20191027T020000
TZOFFSETFROM:+0200
TZOFFSETTO:+0100
TZNAME:CET
END:STANDARD
END:VTIMEZONE
END:VCALENDAR