BEGIN:VCALENDAR
VERSION:2.0
PRODID:-//wp-events-plugin.com//7.2.3.1//EN
TZID:Europe/Warsaw
X-WR-TIMEZONE:Europe/Warsaw
BEGIN:VEVENT
UID:19466@night4u.pl
DTSTART;TZID=Europe/Warsaw:20190626T190000
DTEND;TZID=Europe/Warsaw:20190627T190000
DTSTAMP:20190615T024830Z
URL:https://night4u.pl/wydarzenia/ktoredy-sabina-szkarlat-x-ksaf-26-06-19/
SUMMARY:Którędy / Sabina Szkarłat x KSAF / 26.06.19
DESCRIPTION:KTÓRĘDY\n\n? wernisaż 26.06.19 \n? godz.19:00\nKlub Studio\n
 ul. Witolda Budryka 4\, Kraków\n?Wstęp wolny\n\nCykl zdjęć Sabiny Szka
 rłat jest analizą współczesnych konwenansów\, w które człowiek sam 
 się pakuje. Nie ma wyjścia\, żyje w określonym miejscu i czasie\, dopa
 sowując się do powszechnie uznawanych form życia. Nie ma wyjścia? Twor
 zy własny świat\, który go uwiera. Nieustannie\, najczęściej bezskute
 cznie\, poszukując drogi ucieczki. Tworzy i żyje w miejscu\, które nie 
 jest jego naturalnym środowiskiem. Tęskni za prawdą\, szczerością i w
 olnością. Żałuje\, że dorósł\, że stracił już swoją niewinnoś
 ć i prawdę. \n\nFotografie ilustrują te pragnienia i poszukiwania. Czł
 owiek podświadomie wyczuwa\, iż nie pasuje do swojego życia pełnego ut
 artych schematów. Próbuje uciec\, poszukuje własnej drogi\, wciąż tę
 skniąc za szczerością\, prawdą i wolnością. Żyje w nieustannym konf
 likcie pomiędzy sobą a narzuconą mu przestrzenią. \n__________________
 __________________________________\nGłówną inspiracją do zdjęć stał
 y się szybkie “ucieczki-wycieczki”\, często autostopem lub motocykle
 m\, które autorka zaczęła praktykować w ramach odpoczynku od codzienny
 ch gonitw\, stresów i nadmiaru obowiązków. Odkładając telefon i kompu
 ter\, pakując się na tydzień w godzinę i ruszając w nieznane. Odkrywa
 jąc później\, że świat się nie zawalił.\n\nJak sama mówi - chwile\
 , w których człowiek martwi się o podstawowe sprawy jak utrzymanie się
  przy życiu - działają bardzo oczyszczająco na całe to miejskie i cyw
 ilizowane życie\, w którym spędzamy większość czasu.\n\nZdjęcia pow
 stały w różnych miejscach i czasach. Od Ojcowskiego Parku Narodowego\, 
 przez Dolny Śląsk po Trasę Transfogaraską w Rumunii\; od czerwca 2017 
 do października 2018. Jak sama autorka przyznaje - to drobny skrawek cał
 ości i najpewniej jeszcze do powyższego cyklu zdjęć przybędzie.
ATTACH;FMTTYPE=image/jpeg:https://night4u.pl/wp-content/uploads/2019/06/46
 922_image_62475658_10161977831595602_8705903948852101120_o.jpg
CATEGORIES:małopolskie
LOCATION:Klub Studio\, Budryka 4\, Kraków\, 30-072\, Poland
GEO:50.068057;19.908264
X-APPLE-STRUCTURED-LOCATION;VALUE=URI;X-ADDRESS=Budryka 4\, Kraków\, 30-07
 2\, Poland;X-APPLE-RADIUS=100;X-TITLE=Klub Studio:geo:50.068057,19.908264
END:VEVENT
BEGIN:VTIMEZONE
TZID:Europe/Warsaw
X-LIC-LOCATION:Europe/Warsaw
BEGIN:DAYLIGHT
DTSTART:20190331T030000
TZOFFSETFROM:+0100
TZOFFSETTO:+0200
TZNAME:CEST
END:DAYLIGHT
END:VTIMEZONE
END:VCALENDAR