BEGIN:VCALENDAR
VERSION:2.0
PRODID:-//wp-events-plugin.com//7.2.3.1//EN
TZID:Europe/Warsaw
X-WR-TIMEZONE:Europe/Warsaw
BEGIN:VEVENT
UID:50387@night4u.pl
DTSTART;TZID=Europe/Warsaw:20200906T190000
DTEND;TZID=Europe/Warsaw:20200906T220000
DTSTAMP:20200807T183611Z
URL:https://night4u.pl/wydarzenia/kuba-sienkiewicz-wystep-2/
SUMMARY:Kuba Sienkiewicz wystep
DESCRIPTION:Recital solo pod tytułem "Tęczowa aureola bez Matki Boskiej".
  Dwie części\, po występie ognisko i inne przyjemności. Jeżeli marzy 
 Wam się zatrzymanie policyjne\, zabierzcie ze sobą tęczowe flagi i syre
 ny.
ATTACH;FMTTYPE=image/jpeg:https://night4u.pl/wp-content/uploads/2020/08/18
 3980_image_117180612_1690546841096451_3383201325034722427_o.jpg
CATEGORIES:mazowieckie
LOCATION:Chata Trapera-Przystanek Tarchomin\, ul. Sprawna przy wale wiślan
 ym\, Warsaw\, 03-134\, Poland
GEO:52.34033;20.929619
X-APPLE-STRUCTURED-LOCATION;VALUE=URI;X-ADDRESS=ul. Sprawna przy wale wiśl
 anym\, Warsaw\, 03-134\, Poland;X-APPLE-RADIUS=100;X-TITLE=Chata Trapera-P
 rzystanek Tarchomin:geo:52.34033,20.929619
END:VEVENT
BEGIN:VTIMEZONE
TZID:Europe/Warsaw
X-LIC-LOCATION:Europe/Warsaw
BEGIN:DAYLIGHT
DTSTART:20200329T030000
TZOFFSETFROM:+0100
TZOFFSETTO:+0200
TZNAME:CEST
END:DAYLIGHT
END:VTIMEZONE
END:VCALENDAR