BEGIN:VCALENDAR
VERSION:2.0
PRODID:-//wp-events-plugin.com//7.2.3.1//EN
TZID:Europe/Warsaw
X-WR-TIMEZONE:Europe/Warsaw
BEGIN:VEVENT
UID:40499@night4u.pl
DTSTART;TZID=Europe/Warsaw:20191226T210000
DTEND;TZID=Europe/Warsaw:20191227T060000
DTSTAMP:20191226T055918Z
URL:https://night4u.pl/wydarzenia/kubanczyk-high-school-party-16/
SUMMARY:Kubańczyk // High School Party // 16+
DESCRIPTION:✪ CZWARTEK\, 26 GRUDNIA 2019 ✪ X-Demon Zielona Góra ✪\n
 Świąteczna edycja kultowej imprezy HIGH SCHOOL PARTY!! Absolutnie pozyty
 wna dawka fantastycznych wibracji w X-Demonie\n\n♥ WSTĘP ♥\nWstęp - 
 od ukończonych 16 lat! Za okazaniem dokumentu ze zdjęciem potwierdzając
 ym wiek!\n\n✪ KONCERT✪\nKUBAŃCZYK - A właściwie Jakub Flas to przed
 stawiciel nowej generacji polskich raperów. Internautom znany jest równi
 eż jako ochroniarz Lorda Kruszwila – bardzo popularnego youtubera. To r
 ównież jeden z szesnastu uczestników gali FAME MMA 4. Specjalnie dla Wa
 s wystąpi podczas imprezy w klubie XDEMON.\n\nKUBAŃCZYK - LADY PANK\nhtt
 ps://www.youtube.com/watch?v=yYHCto2GQdQ\n\nKubańczyk - High Love\nhttps:
 //www.youtube.com/watch?v=mYNWCUhy9uM\n\nKUBAŃCZYK - ZWYKŁY CHŁOPAK\nht
 tps://www.youtube.com/watch?v=z8lL7HsxqkU\n\nCO? ♥ GDZIE? ♥ KIEDY? ♥
 \n◄ Co: HIGH SCHOOL PARTY\n◄ Gdzie: X-DEMON\n◄ Kiedy: 26 GRUDNIA 201
 9\, CZWARTEK\n◄ START: 21:00
ATTACH;FMTTYPE=image/jpeg:https://night4u.pl/wp-content/uploads/2019/12/12
 2433_image_79814544_2250455995253819_3604461954963341312_o.jpg
CATEGORIES:lubuskie
LOCATION:High School Party X-Demon Zielona Góra\, Kupiecka 63\, Zielona G
 óra\, 65-058\, Poland
GEO:51.94178;15.50419
X-APPLE-STRUCTURED-LOCATION;VALUE=URI;X-ADDRESS=Kupiecka 63\, Zielona Góra
 \, 65-058\, Poland;X-APPLE-RADIUS=100;X-TITLE=High School Party X-Demon Zi
 elona Góra:geo:51.94178,15.50419
END:VEVENT
BEGIN:VTIMEZONE
TZID:Europe/Warsaw
X-LIC-LOCATION:Europe/Warsaw
BEGIN:STANDARD
DTSTART:20191027T020000
TZOFFSETFROM:+0200
TZOFFSETTO:+0100
TZNAME:CET
END:STANDARD
END:VTIMEZONE
END:VCALENDAR