BEGIN:VCALENDAR
VERSION:2.0
PRODID:-//wp-events-plugin.com//7.2.3.1//EN
TZID:Europe/Warsaw
X-WR-TIMEZONE:Europe/Warsaw
BEGIN:VEVENT
UID:16850@night4u.pl
DTSTART;TZID=Europe/Warsaw:20190629T170000
DTEND;TZID=Europe/Warsaw:20190629T233000
DTSTAMP:20190522T094239Z
URL:https://night4u.pl/wydarzenia/kubi-producent-koncert-premierowy-plyty-
 18/
SUMMARY:Kubi Producent. Koncert premierowy płyty „+18”
DESCRIPTION:SOLD OUT Agencja oraz Live2Listen  mają zaszczyt zaprosić Was
  na premierowy koncert producencki Kubiego Producenta. \n\nW warszawskim k
 lubie Iskra z okazji wydania przez niego pierwszego solowego projektu zaty
 tułowanego “+18” będziemy mogli na żywo usłyszeć największe gwia
 zdy polskiego hip hopu. Swoją obecność potwierdzili m.in.   White 2115\
 , Sapi Tha King\, Białas\, Coals  \n\nKolejnych gości specjalnych będzi
 emy ujawniać stopniowo!\n\n\nKubi Producent ma już na koncie dwie złote
  płyty\, liczne single z milionowymi wyświetleniami oraz uznanie topowyc
 h raperów. Beatmaker zbiera kolejne plony swojej ciężkiej pracy i szlif
 owanego latami talentu\, którego efektem jest pierwszy solowy projekt.\n\
 nWśród trzydziestu czterech gości\, którzy znaleźli się na albumie 
 „+18”\, możemy trafić zarówno na najpopularniejszych raperów w Pol
 sce\, jak i wschodzące gwiazdy gatunku. – Chciałem na swój album zapr
 osić ziomków – mówi Kubi Producent. \n\nCałość płyty jest bardzo 
 intensywna\, ale i wyważona.  Dominują wyraziste trapowe perkusje\, clou
 dowe wokale oraz ambientowe akcenty. Utwory są doskonale zaaranżowane\, 
 a produkcje zaskakujące i dopracowane. Partie wokalne zróżnicowane ze w
 zględu na liczbę gości\, którzy prezentują się znakomicie na podkła
 dach Kubiego Producenta. \n\nKoncert odbędzie się w Warszawie w klubie I
 skra przy ul. Wawelskiej 5\n\nBILETY:\nI PULA  – 45 zł\nII PULA – 55 
 zł\nIII PULA – 65 zł
ATTACH;FMTTYPE=image/jpeg:https://night4u.pl/wp-content/uploads/2019/05/41
 293_image_60884038_1671992489570854_7654539063378051072_o.jpg
CATEGORIES:mazowieckie
LOCATION:ISKRA Pole Mokotowskie\, Wawelska 5\, Warsaw\, 02-034\, Poland
GEO:52.213781;20.994384
X-APPLE-STRUCTURED-LOCATION;VALUE=URI;X-ADDRESS=Wawelska 5\, Warsaw\, 02-03
 4\, Poland;X-APPLE-RADIUS=100;X-TITLE=ISKRA Pole Mokotowskie:geo:52.213781
 ,20.994384
END:VEVENT
BEGIN:VTIMEZONE
TZID:Europe/Warsaw
X-LIC-LOCATION:Europe/Warsaw
BEGIN:DAYLIGHT
DTSTART:20190331T030000
TZOFFSETFROM:+0100
TZOFFSETTO:+0200
TZNAME:CEST
END:DAYLIGHT
END:VTIMEZONE
END:VCALENDAR