BEGIN:VCALENDAR
VERSION:2.0
PRODID:-//wp-events-plugin.com//7.2.3.1//EN
TZID:Europe/Warsaw
X-WR-TIMEZONE:Europe/Warsaw
BEGIN:VEVENT
UID:19968@night4u.pl
DTSTART;TZID=Europe/Warsaw:20190705T220000
DTEND;TZID=Europe/Warsaw:20190706T050000
DTSTAMP:20190621T201237Z
URL:https://night4u.pl/wydarzenia/kubota-to-nie-klapki-to-styl-zycia-2/
SUMMARY:Kubota to Nie Klapki to Styl Życia!
DESCRIPTION:Lata 90. W polskich domach wiszą obrazki z Papieżem Polakiem\
 , meblościanki Kowalskich podpierają boazerię\, a w telewizorach królu
 je Magda Masny i „Słoneczny Patrol”. Kiedy nadchodzi pora\, żeby wst
 ać sprzed odbiornika i zjeść mielonego z mizerią\, trzeba najpierw za
 łożyć klapki. No właśnie\, słowo klucz – klapki! Co ukazuje ci si
 ę przed oczami\, kiedy je słyszysz? Nie oszukujmy się: widzisz KUBOTY. 
 ??\n\nRazem z reaktywującą się marką Kubota przygotowaliśmy dla Was m
 asę atrakcji oraz konkursów w których do wygrania będą ?\n\n\n#KUBOTA
  #DUMAKUBOTA #MADEINPOLAND\n\nJANUSZE TEJ NOCY ?‍♂\n- Lipinsky\n- TBA\
 n\nRezerwacje: \nOliwia tel. +48 504989948\noliwia.stiller@klubczekolada.p
 l\n\nRezerwacje on-line:\nhttps://emenago.com/inner/cart/220/a3f73e9d3f582
 b58e2f1311e0bb65fc1/pl\n\nstart 22:00 || wstęp 20zł || wstęp dla osób 
 +18 lat || lista fb do 23:00 wstęp free\, listę zamykamy o 21:00 w dniu 
 imprezy\n*wejście do klubu na listę fb jest jednorazowe w ciągu danej i
 mprezy\, ponowny wstęp wiąże się z opłatą\n\nReservations: \nOliwia 
 tel. +48 504989948\noliwia.stiller@klubczekolada.pl\n\non-line:\nhttps://e
 menago.com/inner/cart/220/a3f73e9d3f582b58e2f1311e0bb65fc1/pl\n\nStart 22:
 00 || entry 20 PLN || entry from 18 years || list fb to 23:00 entry free\,
  the list closes at 21:00 on the day of the event
ATTACH;FMTTYPE=image/jpeg:https://night4u.pl/wp-content/uploads/2019/06/48
 054_image_62550524_2279067452159672_733565381771264000_o.jpg
CATEGORIES:wielkopolskie
LOCATION:Klub Czekolada Poznań\, Poznan\, Poland
GEO:52.40609;16.93264
X-APPLE-STRUCTURED-LOCATION;VALUE=URI;X-ADDRESS=Poznan\, Poland;X-APPLE-RAD
 IUS=100;X-TITLE=Klub Czekolada Poznań:geo:52.40609,16.93264
END:VEVENT
BEGIN:VTIMEZONE
TZID:Europe/Warsaw
X-LIC-LOCATION:Europe/Warsaw
BEGIN:DAYLIGHT
DTSTART:20190331T030000
TZOFFSETFROM:+0100
TZOFFSETTO:+0200
TZNAME:CEST
END:DAYLIGHT
END:VTIMEZONE
END:VCALENDAR