BEGIN:VCALENDAR
VERSION:2.0
PRODID:-//wp-events-plugin.com//7.2.3.1//EN
TZID:Europe/Warsaw
X-WR-TIMEZONE:Europe/Warsaw
BEGIN:VEVENT
UID:18362@night4u.pl
DTSTART;TZID=Europe/Warsaw:20190615T190000
DTEND;TZID=Europe/Warsaw:20190616T050000
DTSTAMP:20190605T205414Z
URL:https://night4u.pl/wydarzenia/kubota-to-nie-klapki-to-styl-zycia-lista
 -fb-free/
SUMMARY:Kubota to nie klapki\, to styl życia! // *Lista FB Free!
DESCRIPTION:Szukasz sensu istnienia? Brak Ci pomysłu na siebie? Zagubiłe
 ś się w gąszczu maleńkich ludzkich spraw? \nZakładaj Kuboty i cho na 
 imprezę! ?\nDodaj sobie odrobinę blichtru i finezji!  ?\n\nMarka Kubota 
 produkująca klapki towarzyszy Polakom już 25 lat. Po wypełnieniu niszy 
 na tanie i wygodne obuwie\, z czasem stała się marką kultową\, a fraza
  „Kubota to nie klapki\, to styl życia” weszła do języka potocznego
 .\n\nDołączajcie do wydarzenia i bądźcie na bieżąco\, bo przygotowal
 iśmy dla Was masę atrakcji oraz konkursów\, w których do wygrania będ
 ą zestawy Janusza: klapki\, skarpety oraz worek Kuboty ?\n\n #25KUBOTA #D
 UMAKUBOTA #MADEINPOLAND\n\nJANUSZE TEJ NOCY ?‍♂\n- Bartłomiej Bery Wo
 źniak\n- Dj Dźwięk\n\nOtwieramy o 19:00 i zapraszamy na BIFOR pod chmur
 ką ze znajomymi!\n\n* Do 22:00 wstęp WOLNY!\n* Lista FB FREE CAŁĄ NOC!
  ( Listę zamykamy o 20:00)\n* Wejście : 10 PLN\n* Selekcja : 18+\n* DRES
 S CODE : POLISH STYLE! ??
ATTACH;FMTTYPE=image/jpeg:https://night4u.pl/wp-content/uploads/2019/06/44
 355_image_61587791_1616185571859710_5525856239579299840_o.jpg
CATEGORIES:lubelskie
LOCATION:Radość\, ul. Bernardyńska 15\, Lublin\, 20-950\, Poland
GEO:51.24424;22.5673
X-APPLE-STRUCTURED-LOCATION;VALUE=URI;X-ADDRESS=ul. Bernardyńska 15\, Lubl
 in\, 20-950\, Poland;X-APPLE-RADIUS=100;X-TITLE=Radość:geo:51.24424,22.5
 673
END:VEVENT
BEGIN:VTIMEZONE
TZID:Europe/Warsaw
X-LIC-LOCATION:Europe/Warsaw
BEGIN:DAYLIGHT
DTSTART:20190331T030000
TZOFFSETFROM:+0100
TZOFFSETTO:+0200
TZNAME:CEST
END:DAYLIGHT
END:VTIMEZONE
END:VCALENDAR