BEGIN:VCALENDAR
VERSION:2.0
PRODID:-//wp-events-plugin.com//7.2.3.1//EN
TZID:Europe/Warsaw
X-WR-TIMEZONE:Europe/Warsaw
BEGIN:VEVENT
UID:20941@night4u.pl
DTSTART;TZID=Europe/Warsaw:20190721T120000
DTEND;TZID=Europe/Warsaw:20190721T190000
DTSTAMP:20190704T024407Z
URL:https://night4u.pl/wydarzenia/kuchnia-imigrantow-piknik-miedzykulturow
 y/
SUMMARY:Kuchnia Imigrantów - piknik międzykulturowy
DESCRIPTION:Smaki kuchni świata w jednym miejscu!\n\nZapraszamy do Klubu I
 SKRA przy Polu Mokotowskim na Piknik Międzykulturowy!\nImigranci z różn
 ych stron świata\, którzy w Polsce zajmują się szerzeniem kultury swoi
 ch stron\, poprzez gotowanie\, przygotują tego dnia całą paletę barwny
 ch potraw.\n\nNie zabraknie kuchni wietnamskiej\, indyjskiej\, gruzińskie
 j\, hiszpańskiej\, libańskiej\, szeroko pojętych smaków azji\, orienta
 lnych przypraw i dodatków do jedzenia.\n\nZabierzcie swoich znajomych w p
 odróż dookoła kulinarnego świata!\n\nkontakt dla wystawców: dobretarg
 i@gmail.com
ATTACH;FMTTYPE=image/jpeg:https://night4u.pl/wp-content/uploads/2019/07/50
 094_image_65541063_2321557201268736_8745674031753068544_o.jpg
CATEGORIES:mazowieckie
LOCATION:ISKRA Pole Mokotowskie\, Wawelska 5\, Warsaw\, 02-034\, Poland
GEO:52.213781;20.994384
X-APPLE-STRUCTURED-LOCATION;VALUE=URI;X-ADDRESS=Wawelska 5\, Warsaw\, 02-03
 4\, Poland;X-APPLE-RADIUS=100;X-TITLE=ISKRA Pole Mokotowskie:geo:52.213781
 ,20.994384
END:VEVENT
BEGIN:VTIMEZONE
TZID:Europe/Warsaw
X-LIC-LOCATION:Europe/Warsaw
BEGIN:DAYLIGHT
DTSTART:20190331T030000
TZOFFSETFROM:+0100
TZOFFSETTO:+0200
TZNAME:CEST
END:DAYLIGHT
END:VTIMEZONE
END:VCALENDAR