BEGIN:VCALENDAR
VERSION:2.0
PRODID:-//wp-events-plugin.com//7.2.3.1//EN
TZID:Europe/Warsaw
X-WR-TIMEZONE:Europe/Warsaw
BEGIN:VEVENT
UID:3433@night4u.pl
DTSTART;TZID=Europe/Warsaw:20190202T190000
DTEND;TZID=Europe/Warsaw:20190202T220000
DTSTAMP:20190111T110836Z
URL:https://night4u.pl/wydarzenia/kult-akustik-2019-bydgoszcz/
SUMMARY:Kult Akustik 2019 Bydgoszcz
DESCRIPTION:TIMETABLE:\n18:00 - otwarcie drzwi\n19:00 - początek koncertu\
 n\nBILETY:\nKat. III - 110 PLN\nKat. II - 120 PLN\nKat. I - 130 PLN \n \nd
 o nabycia:\nhttps://www.stodola.pl/\nhttps://ticketclub.pl/wydarzenia/wyda
 rzenie-muzyczne/trasa/trasa-kult-akustik-2019-34/\nhttps://ticketclub.pl/w
 ydarzenia/wydarzenie-muzyczne/kult-akustik-filharmonia-pomorska-im-ij-pade
 rewskiego-533/\nhttps://www.ticketmaster.pl/\nhttps://www.ebilet.pl/muzyka
 /rock/kult-akustik/\noraz w stacjonarnych punktach sprzedaży.\n\n Kult wy
 rusza w trasę „bez prądu”! Formacja Kazika Staszewskiego ogłosiła 
 daty koncertów\, które odbędą się w ramach trasy Kult Akustik 2019. C
 ykl występów rozpocznie się 19 stycznia w Klubie Stodoła. Zespół zap
 lanował łącznie 12 koncertów w 10 polskich miastach. Bilety na wydarze
 nia są już dostępne w sprzedaży!\n \nOd przeszło 30 lat grupa założ
 ona przez Kazika Staszewskiego i Piotra Wieteskę nie traci na popularnoś
 ci. Kolejne pokolenia słuchaczy doceniają KULT za prowokacyjne\, buntown
 icze teksty\, charakterystyczne brzmienie i młodzieńczą zadziorność. 
 Od początku istnienia zespołu powstało sporo piosenek\, niektóre na fo
 nograficzną premierę czekały wiele lat\, inne w ogóle nigdy nie pojawi
 ły się na oficjalnych albumach zespołu. Od samego początku antysystemo
 we teksty Kazika poruszały ważne problemy związane z tożsamością\, w
 iarą czy porządkiem społecznym\, a jego charyzma przyciągała na każd
 y koncert rzesze wiernych fanów.\n \nW styczniu oraz lutym 2019 Kult po r
 az kolejny zaprezentuje fanom swoje najważniejsze utwory w akustycznych a
 ranżacjach.\n\nhttp://kult.art.pl/events/event/kult-akustik-2019-bydgoszc
 z/
ATTACH;FMTTYPE=image/jpeg:https://night4u.pl/wp-content/uploads/2019/01/10
 999_image_48948185_2486683348040673_6604296465743347712_o.jpg
CATEGORIES:mazowieckie
LOCATION:Filharmonia Pomorska im. Ignacego Jana Paderewskiego w Bydgoszczy\
 , ul. Andrzeja Szwalbego 6\, Bydgoszcz\, 85-080\, Poland
GEO:53.1286;18.0106
X-APPLE-STRUCTURED-LOCATION;VALUE=URI;X-ADDRESS=ul. Andrzeja Szwalbego 6\, 
 Bydgoszcz\, 85-080\, Poland;X-APPLE-RADIUS=100;X-TITLE=Filharmonia Pomorsk
 a im. Ignacego Jana Paderewskiego w Bydgoszczy:geo:53.1286,18.0106
END:VEVENT
BEGIN:VTIMEZONE
TZID:Europe/Warsaw
X-LIC-LOCATION:Europe/Warsaw
BEGIN:STANDARD
DTSTART:20181028T020000
TZOFFSETFROM:+0200
TZOFFSETTO:+0100
TZNAME:CET
END:STANDARD
END:VTIMEZONE
END:VCALENDAR