BEGIN:VCALENDAR
VERSION:2.0
PRODID:-//wp-events-plugin.com//7.2.3.1//EN
TZID:Europe/Warsaw
X-WR-TIMEZONE:Europe/Warsaw
BEGIN:VEVENT
UID:3440@night4u.pl
DTSTART;TZID=Europe/Warsaw:20190217T190000
DTEND;TZID=Europe/Warsaw:20190217T220000
DTSTAMP:20190111T110854Z
URL:https://night4u.pl/wydarzenia/kult-akustik-2019-katowice/
SUMMARY:Kult Akustik 2019 Katowice
DESCRIPTION:TIMETABLE:\n18:00 - otwarcie drzwi\n19:00 - początek koncertu\
 n\nBILETY:\nKat. III - 110 PLN\nKat. II - 120 PLN\nKat. I - 130 PLN \n \nd
 o nabycia:\nhttps://www.stodola.pl/\nhttps://ticketclub.pl/wydarzenia/wyda
 rzenie-muzyczne/trasa/trasa-kult-akustik-2019-34/\nhttps://ticketclub.pl/w
 ydarzenia/wydarzenie-muzyczne/kult-akustik-katowice-miasto-ogrodow-536/\nh
 ttps://www.ticketmaster.pl/\nhttps://www.ebilet.pl/muzyka/rock/kult-akusti
 k/\noraz w stacjonarnych punktach sprzedaży.\n\n Kult wyrusza w trasę 
 „bez prądu”! Formacja Kazika Staszewskiego ogłosiła daty koncertów
 \, które odbędą się w ramach trasy Kult Akustik 2019. Cykl występów 
 rozpocznie się 19 stycznia w Klubie Stodoła. Zespół zaplanował łącz
 nie 12 koncertów w 10 polskich miastach. Bilety na wydarzenia są już do
 stępne w sprzedaży!\n \nOd przeszło 30 lat grupa założona przez Kazik
 a Staszewskiego i Piotra Wieteskę nie traci na popularności. Kolejne pok
 olenia słuchaczy doceniają KULT za prowokacyjne\, buntownicze teksty\, c
 harakterystyczne brzmienie i młodzieńczą zadziorność. Od początku is
 tnienia zespołu powstało sporo piosenek\, niektóre na fonograficzną pr
 emierę czekały wiele lat\, inne w ogóle nigdy nie pojawiły się na ofi
 cjalnych albumach zespołu. Od samego początku antysystemowe teksty Kazik
 a poruszały ważne problemy związane z tożsamością\, wiarą czy porz
 ądkiem społecznym\, a jego charyzma przyciągała na każdy koncert rzes
 ze wiernych fanów.\n \nW styczniu oraz lutym 2019 Kult po raz kolejny zap
 rezentuje fanom swoje najważniejsze utwory w akustycznych aranżacjach.\n
 \nhttp://kult.art.pl/events/event/kult-akustik-2019-katowice/
ATTACH;FMTTYPE=image/jpeg:https://night4u.pl/wp-content/uploads/2019/01/11
 030_image_48987902_2486686534707021_3506241520397189120_o.jpg
CATEGORIES:mazowieckie
LOCATION:Katowice Miasto Ogrodów\, plac Sejmu Śląskiego 2\, Katowice\, 4
 0-032\, Poland
GEO:50.252728;19.023328
X-APPLE-STRUCTURED-LOCATION;VALUE=URI;X-ADDRESS=plac Sejmu Śląskiego 2\, 
 Katowice\, 40-032\, Poland;X-APPLE-RADIUS=100;X-TITLE=Katowice Miasto Ogro
 dów:geo:50.252728,19.023328
END:VEVENT
BEGIN:VTIMEZONE
TZID:Europe/Warsaw
X-LIC-LOCATION:Europe/Warsaw
BEGIN:STANDARD
DTSTART:20181028T020000
TZOFFSETFROM:+0200
TZOFFSETTO:+0100
TZNAME:CET
END:STANDARD
END:VTIMEZONE
END:VCALENDAR