BEGIN:VCALENDAR
VERSION:2.0
PRODID:-//wp-events-plugin.com//7.2.3.1//EN
TZID:Europe/Warsaw
X-WR-TIMEZONE:Europe/Warsaw
BEGIN:VEVENT
UID:3434@night4u.pl
DTSTART;TZID=Europe/Warsaw:20190203T190000
DTEND;TZID=Europe/Warsaw:20190203T220000
DTSTAMP:20190111T110838Z
URL:https://night4u.pl/wydarzenia/kult-akustik-2019-poznan/
SUMMARY:Kult Akustik 2019 Poznań
DESCRIPTION:TIMETABLE:\n18:00 - otwarcie drzwi\n19:00 - początek koncertu\
 n\nBILETY:\nKat. III - 110 PLN\nKat. II - 120 PLN\nKat. I - 130 PLN \n \nd
 o nabycia:\nhttps://www.stodola.pl/\nhttps://ticketclub.pl/wydarzenia/wyda
 rzenie-muzyczne/trasa/trasa-kult-akustik-2019-34/\nhttps://ticketclub.pl/w
 ydarzenia/wydarzenie-muzyczne/kult-akustik-aula-uniwersytetu-im-a-mickiewi
 cza-534/\nhttps://www.ticketmaster.pl/\nhttps://www.ebilet.pl/muzyka/rock/
 kult-akustik/\noraz w stacjonarnych punktach sprzedaży.\n\n Kult wyrusza 
 w trasę „bez prądu”! Formacja Kazika Staszewskiego ogłosiła daty k
 oncertów\, które odbędą się w ramach trasy Kult Akustik 2019. Cykl wy
 stępów rozpocznie się 19 stycznia w Klubie Stodoła. Zespół zaplanowa
 ł łącznie 12 koncertów w 10 polskich miastach. Bilety na wydarzenia s
 ą już dostępne w sprzedaży!\n \nOd przeszło 30 lat grupa założona p
 rzez Kazika Staszewskiego i Piotra Wieteskę nie traci na popularności. K
 olejne pokolenia słuchaczy doceniają KULT za prowokacyjne\, buntownicze 
 teksty\, charakterystyczne brzmienie i młodzieńczą zadziorność. Od po
 czątku istnienia zespołu powstało sporo piosenek\, niektóre na fonogra
 ficzną premierę czekały wiele lat\, inne w ogóle nigdy nie pojawiły s
 ię na oficjalnych albumach zespołu. Od samego początku antysystemowe te
 ksty Kazika poruszały ważne problemy związane z tożsamością\, wiarą
  czy porządkiem społecznym\, a jego charyzma przyciągała na każdy kon
 cert rzesze wiernych fanów.\n \nW styczniu oraz lutym 2019 Kult po raz ko
 lejny zaprezentuje fanom swoje najważniejsze utwory w akustycznych aranż
 acjach.\n\nhttp://kult.art.pl/events/event/kult-akustik-2019-poznan/
ATTACH;FMTTYPE=image/jpeg:https://night4u.pl/wp-content/uploads/2019/01/11
 004_image_48926424_2486683801373961_6839484476825796608_o.jpg
CATEGORIES:mazowieckie
LOCATION:Aula UAM\, ul. Wieniawskiego 1\, Poznan\, 61-712\, Poland
GEO:52.407936;16.916324
X-APPLE-STRUCTURED-LOCATION;VALUE=URI;X-ADDRESS=ul. Wieniawskiego 1\, Pozna
 n\, 61-712\, Poland;X-APPLE-RADIUS=100;X-TITLE=Aula UAM:geo:52.407936,16.9
 16324
END:VEVENT
BEGIN:VTIMEZONE
TZID:Europe/Warsaw
X-LIC-LOCATION:Europe/Warsaw
BEGIN:STANDARD
DTSTART:20181028T020000
TZOFFSETFROM:+0200
TZOFFSETTO:+0100
TZNAME:CET
END:STANDARD
END:VTIMEZONE
END:VCALENDAR