BEGIN:VCALENDAR
VERSION:2.0
PRODID:-//wp-events-plugin.com//7.2.3.1//EN
TZID:Europe/Warsaw
X-WR-TIMEZONE:Europe/Warsaw
BEGIN:VEVENT
UID:3443@night4u.pl
DTSTART;TZID=Europe/Warsaw:20190222T190000
DTEND;TZID=Europe/Warsaw:20190222T220000
DTSTAMP:20190111T110900Z
URL:https://night4u.pl/wydarzenia/kult-akustik-2019-warszawa-ii/
SUMMARY:Kult Akustik 2019 Warszawa II
DESCRIPTION:TIMETABLE:\n18:00 - otwarcie drzwi\n19:00 - początek koncertu\
 n\n BILETY:\nKat. III - 110 PLN\nKat. II - 120 PLN\nKat. I - 135 PLN \n \n
 do nabycia:\nhttps://www.stodola.pl/\nhttps://ticketclub.pl/wydarzenia/wyd
 arzenie-muzyczne/trasa/trasa-kult-akustik-2019-34/\nhttps://ticketclub.pl/
 wydarzenia/wydarzenie-muzyczne/kult-akustik-klub-stodola-538/\nhttps://www
 .ticketmaster.pl/\noraz w stacjonarnych punktach sprzedaży.\n\n Kult wyru
 sza w trasę „bez prądu”! Formacja Kazika Staszewskiego ogłosiła da
 ty koncertów\, które odbędą się w ramach trasy Kult Akustik 2019. Cyk
 l występów rozpocznie się 19 stycznia w Klubie Stodoła. Zespół zapla
 nował łącznie 12 koncertów w 10 polskich miastach. Bilety na wydarzeni
 a są już dostępne w sprzedaży!\n \nOd przeszło 30 lat grupa założon
 a przez Kazika Staszewskiego i Piotra Wieteskę nie traci na popularności
 . Kolejne pokolenia słuchaczy doceniają KULT za prowokacyjne\, buntownic
 ze teksty\, charakterystyczne brzmienie i młodzieńczą zadziorność. Od
  początku istnienia zespołu powstało sporo piosenek\, niektóre na fono
 graficzną premierę czekały wiele lat\, inne w ogóle nigdy nie pojawił
 y się na oficjalnych albumach zespołu. Od samego początku antysystemowe
  teksty Kazika poruszały ważne problemy związane z tożsamością\, wia
 rą czy porządkiem społecznym\, a jego charyzma przyciągała na każdy 
 koncert rzesze wiernych fanów.\n \nW styczniu oraz lutym 2019 Kult po raz
  kolejny zaprezentuje fanom swoje najważniejsze utwory w akustycznych ara
 nżacjach.\n\nhttp://kult.art.pl/events/event/kult-akustik-2019-warszawa-i
 i/
ATTACH;FMTTYPE=image/jpeg:https://night4u.pl/wp-content/uploads/2019/01/11
 043_image_49071677_2486692744706400_6918400897412235264_o.jpg
CATEGORIES:mazowieckie
LOCATION:klub Stodoła\, \, 
X-APPLE-STRUCTURED-LOCATION;VALUE=URI;X-ADDRESS=\, ;X-APPLE-RADIUS=100;X-TI
 TLE=klub Stodoła:geo:0,0
END:VEVENT
BEGIN:VTIMEZONE
TZID:Europe/Warsaw
X-LIC-LOCATION:Europe/Warsaw
BEGIN:STANDARD
DTSTART:20181028T020000
TZOFFSETFROM:+0200
TZOFFSETTO:+0100
TZNAME:CET
END:STANDARD
END:VTIMEZONE
END:VCALENDAR