BEGIN:VCALENDAR
VERSION:2.0
PRODID:-//wp-events-plugin.com//7.2.3.1//EN
TZID:Europe/Warsaw
X-WR-TIMEZONE:Europe/Warsaw
BEGIN:VEVENT
UID:42352@night4u.pl
DTSTART;TZID=Europe/Warsaw:20200116T220100
DTEND;TZID=Europe/Warsaw:20200117T060000
DTSTAMP:20200331T192040Z
URL:https://night4u.pl/wydarzenia/kultowe-czwartkowe-ladies-night-open-bar
 -4-ladies/
SUMMARY:Kultowe Czwartkowe Ladies Night | Open Bar 4 Ladies
DESCRIPTION:Kultowe Ladies Night\, \nOpen Bar 4 Ladies: 22:01 - 00:00 \nNaj
 większa Czwartkowa Studencka w mieście \nZa sterami: DJ ROKO &amp\; DJ M
 artinez \n\nLordis Club &amp\; FooFoo Vip Lounge Bar \nul. Piotrkowska 102
  \ninformacje &amp\; rezerwacje + 48662366366\n\nwejście: 10 zł \nKarty 
 Vip Free
ATTACH;FMTTYPE=image/jpeg:https://night4u.pl/wp-content/uploads/2020/01/13
 3335_image_81662686_2917056454972130_8622249500733341696_o.jpg
CATEGORIES:łódzkie
LOCATION:Lordi's Club\, Piotrkowska 102\, Łódź\, 90-010\, Poland
GEO:51.765169;19.45859
X-APPLE-STRUCTURED-LOCATION;VALUE=URI;X-ADDRESS=Piotrkowska 102\, Łódź\,
  90-010\, Poland;X-APPLE-RADIUS=100;X-TITLE=Lordi's Club:geo:51.765169,19.
 45859
END:VEVENT
BEGIN:VTIMEZONE
TZID:Europe/Warsaw
X-LIC-LOCATION:Europe/Warsaw
BEGIN:STANDARD
DTSTART:20191027T020000
TZOFFSETFROM:+0200
TZOFFSETTO:+0100
TZNAME:CET
END:STANDARD
END:VTIMEZONE
END:VCALENDAR