BEGIN:VCALENDAR
VERSION:2.0
PRODID:-//wp-events-plugin.com//7.2.3.1//EN
TZID:Europe/Warsaw
X-WR-TIMEZONE:Europe/Warsaw
BEGIN:VEVENT
UID:31273@night4u.pl
DTSTART;TZID=Europe/Warsaw:20191023T210000
DTEND;TZID=Europe/Warsaw:20191024T000000
DTSTAMP:20200401T080830Z
URL:https://night4u.pl/wydarzenia/kumbia-mac-x-nietota-2/
SUMMARY:Kumbia Mać x Nietota
DESCRIPTION:Zapraszamy ponownie na gorące\, latynoskie rytmy\, które porw
 ą Cię do tańca! 23 października w Nietocie zespół Kumbia Mać zaczar
 uje środowy  wieczór. Będzie bardzo gorąco- tego jesteśmy pewni! Znó
 w poczujemy się jak w lecie.\n\nKumbia to bardzo popularna w kręgach lat
 ynoamerykańskich muzyka\, która powstała w Kolumbii z połączenia rytm
 ów rdzennej Ameryki\, niewolniczej Afryki i kolonialnej Hiszpanii. Ten ty
 p muzyki staje się coraz szerzej znany w Europie.\nKumbia Mać jest zespo
 łem założonym we Wrocławiu\, złożonym z 9 muzyków z Chile\, Hiszpan
 ii\, Polski i Francji. Grają różne rodzaje kumbii pochodzącej z Argent
 yny\, Kolumbii\, Peru\, jak również Chile.\n\nDo zobaczenia
ATTACH;FMTTYPE=image/jpeg:https://night4u.pl/wp-content/uploads/2019/10/72
 693_image_71209945_2517722268270650_6654871604029292544_o.jpg
CATEGORIES:dolnośląskie
LOCATION:Nietota\, ul.Kazimierza Wielkiego 50\, Wroclaw\, 50-078\, Poland
GEO:51.107699;17.031693
X-APPLE-STRUCTURED-LOCATION;VALUE=URI;X-ADDRESS=ul.Kazimierza Wielkiego 50\
 , Wroclaw\, 50-078\, Poland;X-APPLE-RADIUS=100;X-TITLE=Nietota:geo:51.1076
 99,17.031693
END:VEVENT
BEGIN:VTIMEZONE
TZID:Europe/Warsaw
X-LIC-LOCATION:Europe/Warsaw
BEGIN:DAYLIGHT
DTSTART:20190331T030000
TZOFFSETFROM:+0100
TZOFFSETTO:+0200
TZNAME:CEST
END:DAYLIGHT
END:VTIMEZONE
END:VCALENDAR