BEGIN:VCALENDAR
VERSION:2.0
PRODID:-//wp-events-plugin.com//7.2.3.1//EN
TZID:Europe/Warsaw
X-WR-TIMEZONE:Europe/Warsaw
BEGIN:VEVENT
UID:18945@night4u.pl
DTSTART;TZID=Europe/Warsaw:20190622T200000
DTEND;TZID=Europe/Warsaw:20190623T030000
DTSTAMP:20190611T180500Z
URL:https://night4u.pl/wydarzenia/kumple-janosika-w-siwym-dymie/
SUMMARY:Kumple Janosika w Siwym Dymie
DESCRIPTION:Kumple Janosika to zespół wykonujący stylizowaną muzykę fo
 lkową  wywodzącą się z Podhala  Cieszący się ogromnym powodzeniem i 
 pełni energii muzycy pochodzą z okolic Nowego Targu i Rabki. Swoją muzy
 ką rozgrzewają publiczność\, jak mało kto.  \nMiło nam będzie gośc
 ić ich w Siwym Dymie - Zapraszamy
ATTACH;FMTTYPE=image/jpeg:https://night4u.pl/wp-content/uploads/2019/06/45
 830_image_60352721_2227720480598961_641014497309360128_n.jpg
CATEGORIES:lubelskie
LOCATION:Siwy Dym Celejów\, 63c\, Celejów\, 24-120\, Poland
GEO:51.338888;22.052208
X-APPLE-STRUCTURED-LOCATION;VALUE=URI;X-ADDRESS=63c\, Celejów\, 24-120\, P
 oland;X-APPLE-RADIUS=100;X-TITLE=Siwy Dym Celejów:geo:51.338888,22.052208
END:VEVENT
BEGIN:VTIMEZONE
TZID:Europe/Warsaw
X-LIC-LOCATION:Europe/Warsaw
BEGIN:DAYLIGHT
DTSTART:20190331T030000
TZOFFSETFROM:+0100
TZOFFSETTO:+0200
TZNAME:CEST
END:DAYLIGHT
END:VTIMEZONE
END:VCALENDAR