BEGIN:VCALENDAR
VERSION:2.0
PRODID:-//wp-events-plugin.com//7.2.3.1//EN
TZID:Europe/Warsaw
X-WR-TIMEZONE:Europe/Warsaw
BEGIN:VEVENT
UID:48056@night4u.pl
DTSTART;TZID=Europe/Warsaw:20200307T200000
DTEND;TZID=Europe/Warsaw:20200307T230000
DTSTAMP:20200331T140710Z
URL:https://night4u.pl/wydarzenia/kurkiewicz-07-03-poznan/
SUMMARY:Kurkiewicz | 07.03 Poznań
DESCRIPTION:Kurkiewicz\n// coldwave / synth punk / new romantic / new wave 
 //\n\nPomorski muzyk młodego pokolenia. Po udanych premierach jego poprze
 dnich płyt\, eksperymentalno - ambientowej „Aloha Park”  oraz alterna
 tywnej „Z Całej EPy”\, nadszedł czas na jego najnowszy materiał\, r
 óżniący się od jego dotychczasowych projektów. Kurkiewicz czerpie nie
 skończoną inspirację z największych tuz nowej fali takich jak Joy Divi
 sion\, The Cure czy Talking Heads\, starając się jednocześnie uwspółc
 ześnić ich przekaz.\n\n„Stare Kombi gra Ariela Pinka” \nKurkiewicz w
  2020 prezentuje całkowicie nową muzykę z pogranicza zimnofalowego synt
 h punka\, new romantic i new wave. Teksty w językach polskim i angielskim
  inspirowane są w większości otaczającym go światem i sytuacjami\, na
  bazie których kreuje i wymyśla swoje własne historie. Piosenki składa
 jące się z syntezatorowych padów\, agresywnej gitary i rytmicznej perku
 sji z automatu mają za zadanie jednocześnie wprawić słuchacza w dziwny
  niepokój\, jak i nadawać się do tańczenia i zabawy.\n\nIG: https://ww
 w.instagram.com/kurkiewicz.h/\n\nBILETY - pay what you will
ATTACH;FMTTYPE=image/jpeg:https://night4u.pl/wp-content/uploads/2020/02/16
 2078_image_87488534_492473218366409_3945236209395040256_o.jpg
CATEGORIES:wielkopolskie
LOCATION:Amore del Tropico\, Ratajczaka 26/2\, Poznan\, 61-815\, Poland
GEO:52.405425;16.925737
X-APPLE-STRUCTURED-LOCATION;VALUE=URI;X-ADDRESS=Ratajczaka 26/2\, Poznan\, 
 61-815\, Poland;X-APPLE-RADIUS=100;X-TITLE=Amore del Tropico:geo:52.405425
 ,16.925737
END:VEVENT
BEGIN:VTIMEZONE
TZID:Europe/Warsaw
X-LIC-LOCATION:Europe/Warsaw
BEGIN:STANDARD
DTSTART:20191027T020000
TZOFFSETFROM:+0200
TZOFFSETTO:+0100
TZNAME:CET
END:STANDARD
END:VTIMEZONE
END:VCALENDAR