BEGIN:VCALENDAR
VERSION:2.0
PRODID:-//wp-events-plugin.com//7.2.3.1//EN
TZID:Europe/Warsaw
X-WR-TIMEZONE:Europe/Warsaw
BEGIN:VEVENT
UID:48252@night4u.pl
DTSTART;TZID=Europe/Warsaw:20200226T210000
DTEND;TZID=Europe/Warsaw:20200227T040000
DTSTAMP:20200226T063758Z
URL:https://night4u.pl/wydarzenia/la-casa-del-sol-%e2%98%85-sr-26-02/
SUMMARY:La Casa Del Sol ★ Śr. 26.02
DESCRIPTION:Czy czujecie już wiosenny klimat?😎\n\nPodczas środowej  im
 prezy\, 26 lutego przeniesiemy Was prosto do słonecznej Hiszpanii\, gdzie
  panują gorące hiszpańskie rytmy!💃🕺\n\nPrzeżyjcie razem z nami w
 spaniałą imprezę #NaNajwyższymPoziomie! \n\nNie zapomnijcie o naszych 
 specjalnych promocjach na barze:  \n\n👉 Shot Barmański - 3 zł  \n👉
  Cytrynówka / Wiśniówka - 4 zł \n👉 Piwo Tyskie - 5 zł \n👉 Wódk
 a - 5 zł \n👉 Wódka + Cola / Sprite - 9 zł \n👉 Ballantine's + Cola
  / Sprite - 10 zł \n--\nINFORMACJE\n📅 26.02 - Środa\n🕘 Start: 21:0
 0\n🔞 Selekcja: +18\n🎫 Wstęp: \nStudenci: 5 zł\nReszta świata: 10 
 zł\nWszyscy do 22:00: WSTĘP FREE\n📌 Katowice\, ul. Mickiewicza 4\, Ga
 leria Skarbek (Rynek)\n🅿 http://bit.ly/ParkingiPomarańczaKatowice  \n-
 -\nPROMOCJE\n🎂 Twoje Urodziny!\n💃 Wieczór Panieński\n🕺 Wieczór
  Kawalerski\nInfo: https://klubpomarancza.pl/katowice/promocje/\n📱 536 
 901 907 (wt.-sob. 13:00-21:00)\n📧 mojaimpreza@pomaranczagroup.pl\n--\n#
 BEZPIECZEŃSTWO \nKlub jest częścią galerii handlowej\, podłączonej d
 o centralnego systemu alarmowego\, wszystkie niezbędne służby zjawiają
  się w kilka minut od otrzymania automatycznego sygnału.\n\n🧯 Plan kl
 ubu z zaznaczonymi WYJŚCIAMI EWAKUACYJNYMI\n➡ https://klubpomarancza.pl
 /p/bpk.png\n--\nMUZYKA\nSALA KLUBOWA ▶ BASE ATTACK\n--\nINSTAGRAM\nwww.i
 nstagram.com/pomarancza_katowice
ATTACH;FMTTYPE=image/jpeg:https://night4u.pl/wp-content/uploads/2020/02/16
 2927_image_87284290_3062736170412050_5097476407634690048_o.jpg
CATEGORIES:śląskie
LOCATION:Klub Pomarańcza Katowice\, Mickiewicza 4\, Katowice\, 40-092\, Po
 land
GEO:50.25976;19.02082
X-APPLE-STRUCTURED-LOCATION;VALUE=URI;X-ADDRESS=Mickiewicza 4\, Katowice\, 
 40-092\, Poland;X-APPLE-RADIUS=100;X-TITLE=Klub Pomarańcza Katowice:geo:5
 0.25976,19.02082
END:VEVENT
BEGIN:VTIMEZONE
TZID:Europe/Warsaw
X-LIC-LOCATION:Europe/Warsaw
BEGIN:STANDARD
DTSTART:20191027T020000
TZOFFSETFROM:+0200
TZOFFSETTO:+0100
TZNAME:CET
END:STANDARD
END:VTIMEZONE
END:VCALENDAR