BEGIN:VCALENDAR
VERSION:2.0
PRODID:-//wp-events-plugin.com//7.2.3.1//EN
TZID:Europe/Warsaw
X-WR-TIMEZONE:Europe/Warsaw
BEGIN:VEVENT
UID:6674@night4u.pl
DTSTART;TZID=Europe/Warsaw:20190209T220000
DTEND;TZID=Europe/Warsaw:20190210T040000
DTSTAMP:20190207T103511Z
URL:https://night4u.pl/wydarzenia/laboratorium-milosci-blaze-lista-fb-free
 -do-23-oo/
SUMMARY:Laboratorium Miłości/ Blaze/ Lista fb free do 23.oo
DESCRIPTION:Odliczamy dni do wielkiego miłosnego doświadczenia❗ Szykujc
 ie się na #LaboratoriumMiłości ❗\nW naszym Laboratorium\, które mie
 ści się w #MardiGras poczęstujemy Was afrodyzjakiem w postaci smacznych
  shot drinków oraz cudownie SEKSOWNYCH pielęgniarek… Za barem będą c
 zekać na was specjaliści w swojej dziedzinie\, którzy na bieżąco lecz
 yć będą płynnymi środkami - hmm\, wyskokowymi. Tak żeby starczyło e
 nergii na doktora i zarazem DJ BLAZE Official. On spowoduje\, że wasze n
 óżki będą rytmicznie tupać\, a głowy skupią się na jednym - NAJLEP
 SZEJ ZABAWIE.\n\nCzeka nas niezapomniany wieczór… Jesteśmy dla Was !!!
 \nStartujemy od 22.00\n-------------------------------------------------\n
 ZAREZERWUJ LOŻĘ: 662 844 850\nTAX:\nPANIE DO 23:00 ORAZ LISTA FACEBOOK W
 STĘP FREE!\nPANIE - 10 PLN\nPANOWIE - 20 PLN\n*wstęp od 21 lat\nListę F
 B zamykamy w dniu imprezy o 20:00\n____________________________\nMardi Gra
 s\nul. Studzienna 8\n44-100 Gliwice\nRezerwacje: 662 844 850
ATTACH;FMTTYPE=image/jpeg:https://night4u.pl/wp-content/uploads/2019/02/19
 560_image_51381383_2041081212653679_8368736912898260992_o.jpg
CATEGORIES:śląskie
LOCATION:Mardi Gras\, Studzienna 8\, Gliwice\, 44-100\, Poland
GEO:50.296127;18.667885
X-APPLE-STRUCTURED-LOCATION;VALUE=URI;X-ADDRESS=Studzienna 8\, Gliwice\, 44
 -100\, Poland;X-APPLE-RADIUS=100;X-TITLE=Mardi Gras:geo:50.296127,18.66788
 5
END:VEVENT
BEGIN:VTIMEZONE
TZID:Europe/Warsaw
X-LIC-LOCATION:Europe/Warsaw
BEGIN:STANDARD
DTSTART:20181028T020000
TZOFFSETFROM:+0200
TZOFFSETTO:+0100
TZNAME:CET
END:STANDARD
END:VTIMEZONE
END:VCALENDAR