BEGIN:VCALENDAR
VERSION:2.0
PRODID:-//wp-events-plugin.com//7.2.3.1//EN
TZID:Europe/Warsaw
X-WR-TIMEZONE:Europe/Warsaw
BEGIN:VEVENT
UID:36098@night4u.pl
DTSTART;TZID=Europe/Warsaw:20191120T210000
DTEND;TZID=Europe/Warsaw:20191121T050000
DTSTAMP:20191119T103549Z
URL:https://night4u.pl/wydarzenia/ladies-night-14/
SUMMARY:Ladies Night!
DESCRIPTION:Środa w klubie Coyote jest w szczególności wyjątkowa! A dla
 czego?\n\nDlatego\, że w każdą środę wszystkie piękne panie obchodz
 ą u nas swoje święto! Do godziny 23:00 serwujemy wyśmienite drinki prz
 ygotowane przez naszych przystojnych barmanów! Ladies night to okazja do 
 spędzenia babskiego wieczoru przy dobrej muzyce! \n\nDziewczyny to Wy rz
 ądzicie u nas w klubie! Nie zabranie promocji dla panów\, którzy wejś
 ć do klubu mogą od godziny 23:00! \n\nMianowicie wybrane artykuły lejem
 y po 4 zł\, a shot wódki za 5 zł!\n\nStart 21:00\nDla przypomnienia –
  od 21:00 do 23:00 wpuszczamy Same Panie! – Za darmo! \nPo 23:00 wstęp 
 po 10 zł a dla studentów za darmo przez całą noc!\n\nRezerwacje - 509 
 33 10 34
ATTACH;FMTTYPE=image/jpeg:https://night4u.pl/wp-content/uploads/2019/11/97
 370_image_76643674_10159198446402796_5078498635075813376_n.jpg
CATEGORIES:zachodniopomorskie
LOCATION:Coyote Club\, ul.Jagiellońska 89\, Szczecin\, Poland
GEO:53.431;14.54384
X-APPLE-STRUCTURED-LOCATION;VALUE=URI;X-ADDRESS=ul.Jagiellońska 89\, Szcze
 cin\, Poland;X-APPLE-RADIUS=100;X-TITLE=Coyote Club:geo:53.431,14.54384
END:VEVENT
BEGIN:VTIMEZONE
TZID:Europe/Warsaw
X-LIC-LOCATION:Europe/Warsaw
BEGIN:STANDARD
DTSTART:20191027T020000
TZOFFSETFROM:+0200
TZOFFSETTO:+0100
TZNAME:CET
END:STANDARD
END:VTIMEZONE
END:VCALENDAR