BEGIN:VCALENDAR
VERSION:2.0
PRODID:-//wp-events-plugin.com//7.2.3.1//EN
TZID:Europe/Warsaw
X-WR-TIMEZONE:Europe/Warsaw
BEGIN:VEVENT
UID:48251@night4u.pl
DTSTART;TZID=Europe/Warsaw:20200227T210000
DTEND;TZID=Europe/Warsaw:20200228T040000
DTSTAMP:20200227T063738Z
URL:https://night4u.pl/wydarzenia/ladies-night-365-dni-%e2%98%85-czw-27-02
 /
SUMMARY:Ladies Night // 365 Dni ★ Czw. 27.02
DESCRIPTION:27 lutego\, w czwartek zapraszamy Was na drugą odsłonę impre
 zy\, która cieszy się bardzo dużą popularnością wśród Pań - LADIE
 S NIGHT!💥🔥\n\nPodobnie jak w pozostałe czwartki będziemy grali lek
 ko\, łatwo i przyjemnie\, ale nie zabraknie również nieco pikantniejszy
 ch klimatów! \n\nDodatkowo kobiety będziemy rozpieszczać pysznymi kokta
 jlami\, a wszystkich studentów specjalnym\, promocyjnym menu na barze! 
 🍸🍹\n\nZarezerwuj lożę online 📲 https://klubpomarancza.pl/katowi
 ce/rezerwacjalozy/\n\nNa barach w czwartkową noc przygotowaliśmy mega pr
 omocje📣\n👉 Shot Barmański - 3 zł \n👉 Cytrynówka / Wiśniówka 
 - 4 zł\n👉 Piwo Tyskie - 5 zł\n👉 Wódka - 5 zł\n👉 Wódka + Cola
  / Sprite - 9 zł\n👉 Ballantine's + Cola / Sprite - 10 zł\n\n--\nINFOR
 MACJE\n📅 27.02 - Czwartek\n🕘 Start: 21:00\n🔞 Selekcja: +18\n🎫 
 Wstęp: \nStudenci: 5 zł\nReszta świata: 10 zł\nWszyscy do 22:00: WSTĘ
 P FREE\n📌 Katowice\, ul. Mickiewicza 4\, Galeria Skarbek (Rynek)\n🅿 
 http://bit.ly/ParkingiPomarańczaKatowice\n--\nPROMOCJE\n🎂 Twoje Urodzi
 ny!\n💃 Wieczór Panieński\n🕺 Wieczór Kawalerski\nInfo: https://klu
 bpomarancza.pl/katowice/promocje/\n📱 536 901 907 (wt.-sob. 13:00-21:00)
 \n📧 mojaimpreza@pomaranczagroup.pl\n--\n#BEZPIECZEŃSTWO \nKlub jest cz
 ęścią galerii handlowej\, podłączonej do centralnego systemu alarmowe
 go\, wszystkie niezbędne służby zjawiają się w kilka minut od otrzyma
 nia automatycznego sygnału.\n\n🧯 Plan klubu z zaznaczonymi WYJŚCIAMI 
 EWAKUACYJNYMI\n➡ https://klubpomarancza.pl/p/bpk.png\n--\nMUZYKA\nSALA K
 LUBOWA ▶ MAX KOLANKOV\n--\nINSTAGRAM\nwww.instagram.com/pomarancza_katow
 ice
ATTACH;FMTTYPE=image/jpeg:https://night4u.pl/wp-content/uploads/2020/02/16
 2925_image_87014650_3053611717991162_1976497555382468608_o.jpg
CATEGORIES:śląskie
LOCATION:Klub Pomarańcza Katowice\, Mickiewicza 4\, Katowice\, 40-092\, Po
 land
GEO:50.25976;19.02082
X-APPLE-STRUCTURED-LOCATION;VALUE=URI;X-ADDRESS=Mickiewicza 4\, Katowice\, 
 40-092\, Poland;X-APPLE-RADIUS=100;X-TITLE=Klub Pomarańcza Katowice:geo:5
 0.25976,19.02082
END:VEVENT
BEGIN:VTIMEZONE
TZID:Europe/Warsaw
X-LIC-LOCATION:Europe/Warsaw
BEGIN:STANDARD
DTSTART:20191027T020000
TZOFFSETFROM:+0200
TZOFFSETTO:+0100
TZNAME:CET
END:STANDARD
END:VTIMEZONE
END:VCALENDAR