BEGIN:VCALENDAR
VERSION:2.0
PRODID:-//wp-events-plugin.com//7.2.3.1//EN
TZID:Europe/Warsaw
X-WR-TIMEZONE:Europe/Warsaw
BEGIN:VEVENT
UID:25878@night4u.pl
DTSTART;TZID=Europe/Warsaw:20190905T210000
DTEND;TZID=Europe/Warsaw:20190906T040000
DTSTAMP:20190830T163144Z
URL:https://night4u.pl/wydarzenia/ladies-night-coco-loco-%e2%9c%aa-czw-05-
 09/
SUMMARY:Ladies Night - Coco Loco! ✪ Czw. 05.09
DESCRIPTION:Zapraszamy na ?Ladies Night - Coco Loco?\nKolejna czwartkowa im
 preza przed Nami! ?\nMamy dla Was super muzykę\, niepowtarzalny klimat\, 
 promo na barze i oczywiście piękne dziewczyny ?\n\nNie może Was zabrakn
 ąć - widzimy się o 21:00 w Pomarańczy? ??\n\nNa barach w czwartkową n
 oc przygotowaliśmy mega promocje?❗\n? Shot Barmański - 3 zł \n? Cytry
 nówka / Wiśniówka - 4 zł\n? Piwo EB - 5 zł\n? Wódka - 5 zł\n? Wódk
 a z Cola / Sprite - 9 zł\n? Ballantines z Colą / Sprite - 10 zł\n\n--\n
 INFORMACJE\n? 05.09 - CZWARTEK\n? Start: 21:00\n? Selekcja: +18\n? Wstęp:
  \nStudenci - 5zł\nReszta świata - 10zł\nWszyscy do 22:00 - WSTĘP FREE
 \n? Katowice\, ul. Mickiewicza 4\, Galeria Skarbek (Rynek)\n--\nPROMOCJE\n
 ? Odprawimy Twoje urodziny!\nA także zorganizujemy:\n? Wieczór Panieńsk
 i\n? Wieczór Kawalerski\nRezerwacje od wtorku do soboty od 13:00 do 21:00
 \n? 536 901 907\n? mojaimpreza@pomaranczagroup.pl\n--\nMUZYKA\nSALA KLUBOW
 A ▶ PAUL SECCO\n--\nINSTAGRAM\nwww.instagram.com/pomarancza_katowice
ATTACH;FMTTYPE=image/jpeg:https://night4u.pl/wp-content/uploads/2019/08/60
 590_image_69248994_2676475629038108_2273191035741929472_o.jpg
CATEGORIES:śląskie
LOCATION:Klub Pomarańcza Katowice\, Mickiewicza 4\, Katowice\, 40-092\, Po
 land
GEO:50.25976;19.02082
X-APPLE-STRUCTURED-LOCATION;VALUE=URI;X-ADDRESS=Mickiewicza 4\, Katowice\, 
 40-092\, Poland;X-APPLE-RADIUS=100;X-TITLE=Klub Pomarańcza Katowice:geo:5
 0.25976,19.02082
END:VEVENT
BEGIN:VTIMEZONE
TZID:Europe/Warsaw
X-LIC-LOCATION:Europe/Warsaw
BEGIN:DAYLIGHT
DTSTART:20190331T030000
TZOFFSETFROM:+0100
TZOFFSETTO:+0200
TZNAME:CEST
END:DAYLIGHT
END:VTIMEZONE
END:VCALENDAR