BEGIN:VCALENDAR
VERSION:2.0
PRODID:-//wp-events-plugin.com//7.2.3.1//EN
TZID:Europe/Warsaw
X-WR-TIMEZONE:Europe/Warsaw
BEGIN:VEVENT
UID:32527@night4u.pl
DTSTART;TZID=Europe/Warsaw:20191016T210000
DTEND;TZID=Europe/Warsaw:20191017T050000
DTSTAMP:20191017T015658Z
URL:https://night4u.pl/wydarzenia/ladies-night-on-the-beach/
SUMMARY:Ladies night - On the Beach
DESCRIPTION:Ladies Night w Coyote Club!\n\nKolejna edycja w tym tygodniu ma
  na celu przypomnieć nam niedawno zakończone wakacje! Ladies Night - On 
 the Beach!\n\nDo 23.00 darmowe koktajle dla wszystkich Pań. Postaramy si
 ę aby te specjalne drinki przypomniały Wam najlepsze momenty z imprez wa
 kacyjnych z nadmorskich miejscowości! \n\nPrzez całą noc wybrane artyku
 ły po 4 zł!\n\nPoczuj jeszcze raz gorącą atmosferę letnich imprez na 
 parkiecie w Coyote Club!\n\nStart 21.00. \nStudenci wjazd FREE \n\nDo 23:0
 0 wszystkie Panie wchodzą za darmo! Panów zapraszamy dopiero po 23:00!\n
 Pozostali 10 zł\nWstęp od 19 lat. Rezerwacja loży – bezpłatna! 509 3
 3 10 34\n\nLadies Night in Coyote Club!\n\nWe created this party especiall
 y for the Ladies!\nBeacouse of that we serve free drinks for all Ladies in
  our club for FREE! This special offer lasts only until 11 p.m.! \n\nThat
 ’s not all! All Night we serve your favourtie kinds of alcohol for only 
 4 pln!\n\nCome and see for Yourself all of ours special offers that night!
 \nWe start at 9 p.m.\n\nEnterance fee : Free for all Students! Others 10 p
 ln for each person.\nWould You like to book a table? Call us 509 33 10 34
ATTACH;FMTTYPE=image/jpeg:https://night4u.pl/wp-content/uploads/2019/10/78
 198_image_72067373_10159074060367796_7395619416659984384_n.jpg
CATEGORIES:zachodniopomorskie
LOCATION:Coyote Club\, ul.Jagiellońska 89\, Szczecin\, Poland
GEO:53.431;14.54384
X-APPLE-STRUCTURED-LOCATION;VALUE=URI;X-ADDRESS=ul.Jagiellońska 89\, Szcze
 cin\, Poland;X-APPLE-RADIUS=100;X-TITLE=Coyote Club:geo:53.431,14.54384
END:VEVENT
BEGIN:VTIMEZONE
TZID:Europe/Warsaw
X-LIC-LOCATION:Europe/Warsaw
BEGIN:DAYLIGHT
DTSTART:20190331T030000
TZOFFSETFROM:+0100
TZOFFSETTO:+0200
TZNAME:CEST
END:DAYLIGHT
END:VTIMEZONE
END:VCALENDAR