BEGIN:VCALENDAR
VERSION:2.0
PRODID:-//wp-events-plugin.com//7.2.3.1//EN
TZID:Europe/Warsaw
X-WR-TIMEZONE:Europe/Warsaw
BEGIN:VEVENT
UID:34432@night4u.pl
DTSTART;TZID=Europe/Warsaw:20191107T210000
DTEND;TZID=Europe/Warsaw:20191108T050000
DTSTAMP:20191107T063743Z
URL:https://night4u.pl/wydarzenia/ladies-night-opanuj-sie-martini-%e2%98%8
 5-czw-7-11/
SUMMARY:Ladies Night - Opanuj się Martini! ★ Czw. 7.11
DESCRIPTION:Nawet James Bond kocha się w Martini wstrząśniętym i nie zm
 ieszanym. 🍸 Z tego powodu mamy dla Was wyjątkową promocję na Martini
  Bianco oraz Martini Fiero. 😀\nSmaki\, które porwą Was tego wieczoru 
 dostępne będą na naszych barach! Jesteśmy pewni\, że będzie ciężko
  się opanować! 😍\n\nNa barach w czwartkową noc przygotowaliśmy mega
  promocje📣\n👉 Shot Barmański - 3 zł \n👉 Cytrynówka / Wiśniów
 ka - 4 zł\n👉 Piwo EB - 5 zł\n👉 Wódka - 5 zł\n👉 Wódka z Cola 
 / Sprite - 9 zł\n👉 Ballantines z Colą / Sprite - 10 zł\n--\nINFORMAC
 JE\n📅 7.11 - CZWARTEK\n🕘 Start: 21:00\n🔞 Selekcja: +18\n🎫 Wst
 ęp: \nStudenci - 5zł\nReszta świata - 10zł\nPanie do 22:00 - WSTĘP FR
 EE\n📌 Katowice\, ul. Mickiewicza 4\, Galeria Skarbek (Rynek)\n--\nPROMO
 CJE\n🎂 Odprawimy Twoje urodziny!\nA także zorganizujemy:\n💃 Wieczó
 r Panieński\n🕺 Wieczór Kawalerski\nRezerwacje od wtorku do soboty od 
 13:00 do 21:00\n📱 536 901 907\n📧 mojaimpreza@pomaranczagroup.pl\n--\
 nMUZYKA\nSALA KLUBOWA ▶ MAX KOLANKOV\n--\nINSTAGRAM\nwww.instagram.com/p
 omarancza_katowice
ATTACH;FMTTYPE=image/jpeg:https://night4u.pl/wp-content/uploads/2019/11/88
 931_image_73513715_2804741109544892_4678859070713626624_o.jpg
CATEGORIES:śląskie
LOCATION:Klub Pomarańcza Katowice\, Mickiewicza 4\, Katowice\, 40-092\, Po
 land
GEO:50.25976;19.02082
X-APPLE-STRUCTURED-LOCATION;VALUE=URI;X-ADDRESS=Mickiewicza 4\, Katowice\, 
 40-092\, Poland;X-APPLE-RADIUS=100;X-TITLE=Klub Pomarańcza Katowice:geo:5
 0.25976,19.02082
END:VEVENT
BEGIN:VTIMEZONE
TZID:Europe/Warsaw
X-LIC-LOCATION:Europe/Warsaw
BEGIN:STANDARD
DTSTART:20191027T020000
TZOFFSETFROM:+0200
TZOFFSETTO:+0100
TZNAME:CET
END:STANDARD
END:VTIMEZONE
END:VCALENDAR