BEGIN:VCALENDAR
VERSION:2.0
PRODID:-//wp-events-plugin.com//7.2.3.1//EN
TZID:Europe/Warsaw
X-WR-TIMEZONE:Europe/Warsaw
BEGIN:VEVENT
UID:36672@night4u.pl
DTSTART;TZID=Europe/Warsaw:20191122T210000
DTEND;TZID=Europe/Warsaw:20191123T040000
DTSTAMP:20191123T000400Z
URL:https://night4u.pl/wydarzenia/ladies-night-vol-3-noc-kobiet-w-face-dzi
 ewczyny-free-do-2300/
SUMMARY:Ladies Night Vol.3! Noc Kobiet w Face! Dziewczyny Free do 23:00
DESCRIPTION:Uwaga ❗ Konkurs ❗❗❗\n💵💵 ROZDAJEMY FREE WEJŚCIÓW
 KI I PROCENTY 💵💵\n🎫 KLIKNIJ (WEŹ UDZIAŁ W WYDARZENIU)\n\n 👉P
 IĄTEK ❗❗❗ 22 Listopada ( +18 )\nLADIES NIGHT ! 👠👠👠\nBardzo
  zmysłowy wieczór w Face !\nPoprzednie edycje były świetne \,dlatego m
 amy nadzieje \,że kolejna również mile zaskoczy !\n‼ WSZYSTKIE PANIE 
 DO 23:00 WSTĘP FREE ‼\n\nDJ TEAM 🎧\n🔸 Dj Cezar\n🔸 Dj Adys\n\nS
 TART 21:00\n❎Rezerwacja stolików online - http://tinyurl.com/FaceClub\n
 ⬛ ZAPRASZAMY
ATTACH;FMTTYPE=image/jpeg:https://night4u.pl/wp-content/uploads/2019/11/10
 1002_image_75650502_2171028366332002_6843652695341924352_o.jpg
CATEGORIES:warmińsko-mazurskie
LOCATION:FACE Club ( Olsztyn )\, Orłowicza 6\, Olsztyn\, 10-903\, Poland
GEO:53.754659;20.492838
X-APPLE-STRUCTURED-LOCATION;VALUE=URI;X-ADDRESS=Orłowicza 6\, Olsztyn\, 10
 -903\, Poland;X-APPLE-RADIUS=100;X-TITLE=FACE Club ( Olsztyn ):geo:53.7546
 59,20.492838
END:VEVENT
BEGIN:VTIMEZONE
TZID:Europe/Warsaw
X-LIC-LOCATION:Europe/Warsaw
BEGIN:STANDARD
DTSTART:20191027T020000
TZOFFSETFROM:+0200
TZOFFSETTO:+0100
TZNAME:CET
END:STANDARD
END:VTIMEZONE
END:VCALENDAR