BEGIN:VCALENDAR
VERSION:2.0
PRODID:-//wp-events-plugin.com//7.2.3.1//EN
TZID:Europe/Warsaw
X-WR-TIMEZONE:Europe/Warsaw
BEGIN:VEVENT
UID:31561@night4u.pl
DTSTART;TZID=Europe/Warsaw:20191018T220000
DTEND;TZID=Europe/Warsaw:20191020T040000
DTSTAMP:20191019T215521Z
URL:https://night4u.pl/wydarzenia/ladies-night-w-klubie-futurysta-panie-pi
 ja-drinki-za-darmo-0000/
SUMMARY:Ladies Night w Klubie Futurysta/Panie piją drinki za darmo 00:00
DESCRIPTION:Tradycją w Futuryście stało się to\,że w każdy piątek KA
 ŻDA kobieta ma swoje święto!!!\nPiątek - obowiązkowe ladies night!\nN
 ajpiękniejsze kobiety świętują tylko w Klubie Futurysta!!!\nNasze Śli
 cznotki do północy piją drinki totalnie za darmo!!!!\n\n\nwejście:\n18
 +\nPanie : FREE\nPanowie:\nz zaproszeniem : free\nReszta świata: 10\,00 (
 ŻETON DO WYKORZYSTANIA NA BARZE\,NA KAŻDEGO DRINKA Z KARTY ZA POŁOWĘ C
 ENY!!!)
ATTACH;FMTTYPE=image/jpeg:https://night4u.pl/wp-content/uploads/2019/10/73
 906_image_71874215_2381471051921718_5318597760872611840_o.jpg
CATEGORIES:łódzkie
LOCATION:Klub Futurysta\, Al. Politechniki 7\, Łódź\, 93-590\, Poland
GEO:51.747169;19.450204
X-APPLE-STRUCTURED-LOCATION;VALUE=URI;X-ADDRESS=Al. Politechniki 7\, Łód
 ź\, 93-590\, Poland;X-APPLE-RADIUS=100;X-TITLE=Klub Futurysta:geo:51.7471
 69,19.450204
END:VEVENT
BEGIN:VTIMEZONE
TZID:Europe/Warsaw
X-LIC-LOCATION:Europe/Warsaw
BEGIN:DAYLIGHT
DTSTART:20190331T030000
TZOFFSETFROM:+0100
TZOFFSETTO:+0200
TZNAME:CEST
END:DAYLIGHT
END:VTIMEZONE
END:VCALENDAR