BEGIN:VCALENDAR
VERSION:2.0
PRODID:-//wp-events-plugin.com//7.2.3.1//EN
TZID:Europe/Warsaw
X-WR-TIMEZONE:Europe/Warsaw
BEGIN:VEVENT
UID:2897@night4u.pl
DTSTART;TZID=Europe/Warsaw:20190111T220000
DTEND;TZID=Europe/Warsaw:20190112T050000
DTSTAMP:20190108T151742Z
URL:https://night4u.pl/wydarzenia/ladiesnight-highheels/
SUMMARY:LadiesNight/Highheels
DESCRIPTION:Dziewczyny Wasza ulubiona impreza!\nPiątkowe #LadiesNight\n\n
 ✔Promocje na barze\n✔Fotorelacja\n✔Wyselekcjonowana Muzyka\n✔Najle
 psza Atmosfera!\n\nDla Wszystkich Pań na szpilce-Wstęp Free całą noc!\
 n\n✔Dodatkowo od 22:00-23:00-WSZYSCY piją za połowę ceny!\n✔Wellcom
 eDrink dla każdej Pani 23:00-24:00!\n✔Wstęp FREE Do 23:00!\n\nNa stano
 wisku będzie z nami QIU który w ten wieczór zagra dla Was najlepsze\, i
 mprezowe kawałki! ??\n\n✔Piątek 11.01\n✔ Tax: Do 23:00 FREE WSZYSCY/
 Panie ubrane tematycznie ALL Night FREE/Po 23:00 ALL 5zł/ Panowie 5 zł /
  Studenci piwo #FREE w cenie wstępu od 23:00\n✔ Start 22:00 \n✔ Door 
 selection \n\n------------------------------------------------------------
 --\nRezerwacja Loży:516 134 304
ATTACH;FMTTYPE=image/jpeg:https://night4u.pl/wp-content/uploads/2019/01/99
 33_image_49521116_2278472862162985_4964408678603030528_o.jpg
CATEGORIES:opolskie
LOCATION:Aqarium Music Club - Nysa\, Piastowska 19\, Nysa\, 48-300\, Poland
GEO:50.475975;17.331974
X-APPLE-STRUCTURED-LOCATION;VALUE=URI;X-ADDRESS=Piastowska 19\, Nysa\, 48-3
 00\, Poland;X-APPLE-RADIUS=100;X-TITLE=Aqarium Music Club - Nysa:geo:50.47
 5975,17.331974
END:VEVENT
BEGIN:VTIMEZONE
TZID:Europe/Warsaw
X-LIC-LOCATION:Europe/Warsaw
BEGIN:STANDARD
DTSTART:20181028T020000
TZOFFSETFROM:+0200
TZOFFSETTO:+0100
TZNAME:CET
END:STANDARD
END:VTIMEZONE
END:VCALENDAR