BEGIN:VCALENDAR
VERSION:2.0
PRODID:-//wp-events-plugin.com//7.2.3.1//EN
TZID:Europe/Warsaw
X-WR-TIMEZONE:Europe/Warsaw
BEGIN:VEVENT
UID:5483@night4u.pl
DTSTART;TZID=Europe/Warsaw:20190223T210000
DTEND;TZID=Europe/Warsaw:20190224T050000
DTSTAMP:20190130T185846Z
URL:https://night4u.pl/wydarzenia/lady-carnival-by-larol-sobota-23-02-poka
 z-mody/
SUMMARY:Lady Carnival by Larol // Sobota 23.02 // Pokaz Mody
DESCRIPTION:23 lutego zapraszamy naszych klubowiczów na imprezę specjaln
 ą we współpracy z Larol Design - wyjątkowy pokaz mody w kreacjach Lary
 sy Rabińskiej! Dodatkowo na naszej scenie zaprezentuje się Rock & Seller
  Band.\n\nTakiego wydarzenia jeszcze tutaj nie było - nie może Cię zabr
 aknąć! 
ATTACH;FMTTYPE=image/jpeg:https://night4u.pl/wp-content/uploads/2019/01/16
 882_image_51503764_2030831220543118_4684925956832362496_o.jpg
CATEGORIES:lubelskie
LOCATION:Klub30 Lublin\, Lublin\, Poland
GEO:51.249038;22.552872
X-APPLE-STRUCTURED-LOCATION;VALUE=URI;X-ADDRESS=Lublin\, Poland;X-APPLE-RAD
 IUS=100;X-TITLE=Klub30 Lublin:geo:51.249038,22.552872
END:VEVENT
BEGIN:VTIMEZONE
TZID:Europe/Warsaw
X-LIC-LOCATION:Europe/Warsaw
BEGIN:STANDARD
DTSTART:20181028T020000
TZOFFSETFROM:+0200
TZOFFSETTO:+0100
TZNAME:CET
END:STANDARD
END:VTIMEZONE
END:VCALENDAR