BEGIN:VCALENDAR
VERSION:2.0
PRODID:-//wp-events-plugin.com//7.2.3.1//EN
TZID:Europe/Warsaw
X-WR-TIMEZONE:Europe/Warsaw
BEGIN:VEVENT
UID:41336@night4u.pl
DTSTART;TZID=Europe/Warsaw:20210605T190000
DTEND;TZID=Europe/Warsaw:20210605T210000
DTSTAMP:20210427T204134Z
URL:https://night4u.pl/wydarzenia/lady-pank-o-dwoch-takich-co-ukradli-ksie
 zyc-lodz/
SUMMARY:Nowa data - Lady Pank "O dwóch takich co ukradli księżyc" - Łó
 dź
DESCRIPTION:O DWÓCH TAKICH CO UKRADLI KSIĘŻYC\n\nKoncerty będą połąc
 zone z projekcją tej kultowej bajki Kornela Makuszyńskiego. Premiera odb
 yła się w listopadzie podczas Festiwalu SoundEdit w Łodzi.\n„Na premi
 erowym koncercie zobaczyliśmy rzeszę naszych fanów\, dzisiejszych czter
 dziestolatków pamiętających ten film z czasów dzieciństwa\, którzy p
 rzyprowadzili swoje dzieci. Sala była wypełniona do ostatniego miejsca\,
  bawiły się dwa pokolenia fanów Lady Pank. To był wspaniały widok i z
 nak\, że ten film i muzyka w ogóle się nie zestarzały -  mówi Jan Bor
 ysewicz. Uznaliśmy również\, że warto pokazać się z tym projektem sz
 erszej publiczności. \nZapraszamy serdecznie. \nTo wyjątkowe 4 miejsca i
  4 wydarzenia na koncertowej mapie Polski w 2020 roku !\n\nSprzedaż bilet
 ów:\nempikbilety.pl\nGoing!\nsieć sklepów Empik w całej Polsce.\nbilet
 yna.pl\neventim.pl\nwww.ebilet.pl\nwww.wytwornia.pl
ATTACH;FMTTYPE=image/jpeg:https://night4u.pl/wp-content/uploads/2021/04/12
 9724_image_176021849_475379707209548_8475093938378939098_n.jpg
CATEGORIES:łódzkie
LOCATION:Klub Wytwórnia\, Łąkowa 29\, Łódź\, 90-554\, Poland
GEO:51.757542;19.442285
X-APPLE-STRUCTURED-LOCATION;VALUE=URI;X-ADDRESS=Łąkowa 29\, Łódź\, 90-
 554\, Poland;X-APPLE-RADIUS=100;X-TITLE=Klub Wytwórnia:geo:51.757542,19.4
 42285
END:VEVENT
BEGIN:VTIMEZONE
TZID:Europe/Warsaw
X-LIC-LOCATION:Europe/Warsaw
BEGIN:DAYLIGHT
DTSTART:20210328T030000
TZOFFSETFROM:+0100
TZOFFSETTO:+0200
TZNAME:CEST
END:DAYLIGHT
END:VTIMEZONE
END:VCALENDAR