BEGIN:VCALENDAR
VERSION:2.0
PRODID:-//wp-events-plugin.com//7.2.3.1//EN
TZID:Europe/Warsaw
X-WR-TIMEZONE:Europe/Warsaw
BEGIN:VEVENT
UID:39425@night4u.pl
DTSTART;TZID=Europe/Warsaw:20201003T200000
DTEND;TZID=Europe/Warsaw:20201003T220000
DTSTAMP:20200424T190049Z
URL:https://night4u.pl/wydarzenia/lady-pank-the-best-of-radom/
SUMMARY:Lady Pank - The Best Of - Radom
DESCRIPTION:Więcej info:\nInfo: ☎️606304051\, ✉️ medial@vp.pl\n\nB
 ilety do nabycia: \n👉 HulaPark - ul.Przemysłowa 18(Obok G2)\, tel. 48 
 381 09 94\n\nBorysewicz\, jeden z najbardziej uznanych i uzdolnionych pols
 kich kompozytorów i gitarzystów\, wraz z wokalistą Januszem Panasewicze
 m stanowią trzon grupy\, która\, z krótkimi przerwami\, już od 35 lat 
 błyszczy na polskiej scenie muzycznej.\nPrzeboje: "Mniej niż zero"\, "Kr
 yzysowa narzeczona"\, "Tańcz głupia\, tańcz"\, "Mała Lady Punk"\, "Zam
 ki na piasku"\, "Zawsze tam\, gdzie ty"\, "Sztuka latania"\, "Wciąż bard
 ziej obcy"\, "Vademecum skauta"\, "Zostawcie Titanica"\, "Marchewkowe pole
 "\, "Tacy sami"\, "Na co komu dziś" czy "Stacja warszawa" na stałe wesz
 ły do kanonu polskiej muzyki rozrywkowej i wychowały już dwa pokolenia 
 słuchaczy.
ATTACH;FMTTYPE=image/jpeg:https://night4u.pl/wp-content/uploads/2019/12/11
 6499_image_78922802_2690293427731562_5441211840153518080_o.jpg
CATEGORIES:mazowieckie
LOCATION:Klub Strefa G2\, ul. Przemysłowa 20\, Radom\, 26-610\, Poland
GEO:51.389137;21.149025
X-APPLE-STRUCTURED-LOCATION;VALUE=URI;X-ADDRESS=ul. Przemysłowa 20\, Radom
 \, 26-610\, Poland;X-APPLE-RADIUS=100;X-TITLE=Klub Strefa G2:geo:51.389137
 ,21.149025
END:VEVENT
BEGIN:VTIMEZONE
TZID:Europe/Warsaw
X-LIC-LOCATION:Europe/Warsaw
BEGIN:DAYLIGHT
DTSTART:20200329T030000
TZOFFSETFROM:+0100
TZOFFSETTO:+0200
TZNAME:CEST
END:DAYLIGHT
END:VTIMEZONE
END:VCALENDAR