BEGIN:VCALENDAR
VERSION:2.0
PRODID:-//wp-events-plugin.com//7.2.3.1//EN
TZID:Europe/Warsaw
X-WR-TIMEZONE:Europe/Warsaw
BEGIN:VEVENT
UID:39542@night4u.pl
DTSTART;TZID=Europe/Warsaw:20200214T200000
DTEND;TZID=Europe/Warsaw:20200215T000000
DTSTAMP:20200214T005513Z
URL:https://night4u.pl/wydarzenia/laki-lan-i-rzeszow-14-02-i-lukr/
SUMMARY:ŁĄKI ŁAN I Rzeszów 14.02 I Lukr
DESCRIPTION:Czas na RAUT! \nNowy Łan! Nowa płyta! Ruszamy  z kopyta!\n\n1
 4.02.2020 / Lukr / Rzeszów\, al. Kopisto 1\nwstęp: 20.00\nkoncert: 21.00
 \n\nBilety: https://www.lukr.club/rezerwacja/wydarzenia/laki-lan-/-raut-/-
 lukr.html \n1 pula – 59 zł (dostępna do wyczerpania)\n2 pula – 65 z
 ł (dostępna do wyczerpania)\n3 pula – 70 zł (dostępna do wyczerpania
 )
ATTACH;FMTTYPE=image/jpeg:https://night4u.pl/wp-content/uploads/2019/12/11
 6920_image_78766279_10157784805264634_2304732347850817536_o.jpg
CATEGORIES:podkarpackie
END:VEVENT
BEGIN:VTIMEZONE
TZID:Europe/Warsaw
X-LIC-LOCATION:Europe/Warsaw
BEGIN:STANDARD
DTSTART:20191027T020000
TZOFFSETFROM:+0200
TZOFFSETTO:+0100
TZNAME:CET
END:STANDARD
END:VTIMEZONE
END:VCALENDAR