BEGIN:VCALENDAR
VERSION:2.0
PRODID:-//wp-events-plugin.com//7.2.3.1//EN
TZID:Europe/Warsaw
X-WR-TIMEZONE:Europe/Warsaw
BEGIN:VEVENT
UID:4962@night4u.pl
DTSTART;TZID=Europe/Warsaw:20190329T210000
DTEND;TZID=Europe/Warsaw:20190329T230000
DTSTAMP:20190703T141747Z
URL:https://night4u.pl/wydarzenia/laki-lan-rzeszow-29-03-lukr/
SUMMARY:ŁĄKI ŁAN / Rzeszów 29.03 / Lukr
DESCRIPTION:Łąki Łan zagra w Rzeszowie!\n29.03\, LUKR CLUB\, Al. Kopisto
  1\nWstęp: 20.00\nKoncert: 21.00\n\nBilety dostępne na: 
ATTACH;FMTTYPE=image/jpeg:https://night4u.pl/wp-content/uploads/2019/01/15
 767_image_50340762_10156967324919634_1416062477111656448_o.jpg
CATEGORIES:podkarpackie
LOCATION:LUKR\, Al. Kopisto 1\, Rzeszów\, 35-315\, Poland
GEO:50.028044;22.013478
X-APPLE-STRUCTURED-LOCATION;VALUE=URI;X-ADDRESS=Al. Kopisto 1\, Rzeszów\, 
 35-315\, Poland;X-APPLE-RADIUS=100;X-TITLE=LUKR:geo:50.028044,22.013478
END:VEVENT
BEGIN:VTIMEZONE
TZID:Europe/Warsaw
X-LIC-LOCATION:Europe/Warsaw
BEGIN:STANDARD
DTSTART:20181028T020000
TZOFFSETFROM:+0200
TZOFFSETTO:+0100
TZNAME:CET
END:STANDARD
END:VTIMEZONE
END:VCALENDAR