BEGIN:VCALENDAR
VERSION:2.0
PRODID:-//wp-events-plugin.com//7.2.3.1//EN
TZID:Europe/Warsaw
X-WR-TIMEZONE:Europe/Warsaw
BEGIN:VEVENT
UID:4909@night4u.pl
DTSTART;TZID=Europe/Warsaw:20190330T183000
DTEND;TZID=Europe/Warsaw:20190330T223000
DTSTAMP:20190122T193616Z
URL:https://night4u.pl/wydarzenia/lao-che-we-wroclawiu-30-03-2019-a2/
SUMMARY:LAO CHE we Wrocławiu! - 30.03.2019 / A2
DESCRIPTION:LAO CHE - koncert promujący nową płytę zespołu ”Wiedza o
  Społeczeństwie”\n\n30.03.2019 godz. 20:00 otwarcie bram godz 18\;30 \
 nCENTRUM KONCERTOWE A2 WROCŁAW UL. GÓRALSKA 5\n\nI PULA - 06.12.18 do 31
 .01.19 - 55 zł\nII PULA - 1.02.19 do 29.03.19 - 60 zł\nIII PULA - w dniu
  koncertu - 70 zł\n\nFormacja Lao Che zaprezentuje fanom materiał z najn
 owszej płyty „Wiedza o Społeczeństwie”\, która swoją premierę b
 ędzie miała 16 lutego. \nNa nowej płycie Lao Che sięga do brzmień mog
 ących kojarzyć się z muzyką rozrywkową lat osiemdziesiątych\, jednak
  podanych w charakterystyczny dla twórczości zespołu przetworzony spos
 ób\, nawiązujący do wielu gatunków muzycznych. Za produkcję płyty po
 nownie odpowiada Piotr "Emade" Waglewski oraz Filip "Wieża" Różański. 
 Do zespołu dołączył nowy muzyk - Karol Gola (saksofon barytonowy\, kla
 wisze\, flet) znany między innymi z zespołów Pink Freud czy Jazzombie. 
 \n\nTytułowa „Wiedza o Społeczeństwie” to saga o ludzkich perypetia
 ch. Poczynania ludzi – ich słabości\, obawy\, wątpliwości\, uczucia\
 , spostrzeżenia i marzenia ukazane z perspektywy Człowieka\, Polaka\, Zi
 emianina.\n\nZespół Lao Che zadebiutował w 2002 roku albumem „Gusła
 ”\, jednak dopiero kolejny krążek „Powstanie Warszawskie” przynió
 sł im duży sukces\, który zaprowadził go na scenę Przystanku Woodstoc
 k. W marcu 2015 roku wydali swój poprzedni album "Dzieciom". \n\nZespół
  wystąpi w składzie: \n\nRafał Borycki - bas\, wokal\nMariusz Denst - s
 ampler\, wokal\nHubert Dobaczewski - wokal\, gitara\nMaciek Dzierżanowski
  - instrumenty perkusyjne\, Sammler\, wokal\nMichał Jastrzębski – Szwe
 d - perkusja\nKarol Gola- saksofon\, flet\, klawisze\nFilip Różański - 
 instrumenty klawiszowe\, wokal
ATTACH;FMTTYPE=image/jpeg:https://night4u.pl/wp-content/uploads/2019/01/15
 640_image_47488382_756288851379858_827511112697118720_o.jpg
CATEGORIES:dolnośląskie
LOCATION:A2 - Centrum Koncertowe\, Góralska 5\, Wroclaw\, 53-610\, Poland
GEO:51.108613;17.001703
X-APPLE-STRUCTURED-LOCATION;VALUE=URI;X-ADDRESS=Góralska 5\, Wroclaw\, 53-
 610\, Poland;X-APPLE-RADIUS=100;X-TITLE=A2 - Centrum Koncertowe:geo:51.108
 613,17.001703
END:VEVENT
BEGIN:VTIMEZONE
TZID:Europe/Warsaw
X-LIC-LOCATION:Europe/Warsaw
BEGIN:STANDARD
DTSTART:20181028T020000
TZOFFSETFROM:+0200
TZOFFSETTO:+0100
TZNAME:CET
END:STANDARD
END:VTIMEZONE
END:VCALENDAR