BEGIN:VCALENDAR
VERSION:2.0
PRODID:-//wp-events-plugin.com//7.2.3.1//EN
TZID:Europe/Warsaw
X-WR-TIMEZONE:Europe/Warsaw
BEGIN:VEVENT
UID:50669@night4u.pl
DTSTART;TZID=Europe/Warsaw:20200821T170000
DTEND;TZID=Europe/Warsaw:20200821T210000
DTSTAMP:20200816T115406Z
URL:https://night4u.pl/wydarzenia/laperitivo-fisso-summer-edition-2020/
SUMMARY:L'aperitivo fisso - Summer Edition 2020
DESCRIPTION:L'aperitivo fisso ritorna al pub felicità!\n\nDopo una pausa f
 orzata\, l’aperitivo fisso ritorna al pub felicità. Senza buffet ma sot
 to forma di squisiti appetizers all’italiana! 😋😋😋\n\nCi vediamo
  ogni venerdì nel dehors del pub felicità dalle 17:00 alle 21:00.\n\nCi 
 sarà sempre un piatto forte e poi tante altre specialità servite ai tavo
 li! \n\nE tante sorprese! 😀😀😀
ATTACH;FMTTYPE=image/jpeg:https://night4u.pl/wp-content/uploads/2020/08/18
 4624_image_98205378_3210303935660182_1200464245657960448_n.jpg
CATEGORIES:dolnośląskie
LOCATION:Pub Felicità\, Plac Solny\, 16\, Wroclaw\, 50-062\, Poland
GEO:51.10891;17.02948
X-APPLE-STRUCTURED-LOCATION;VALUE=URI;X-ADDRESS=Plac Solny\, 16\, Wroclaw\,
  50-062\, Poland;X-APPLE-RADIUS=100;X-TITLE=Pub Felicità:geo:51.10891,17.
 02948
END:VEVENT
BEGIN:VTIMEZONE
TZID:Europe/Warsaw
X-LIC-LOCATION:Europe/Warsaw
BEGIN:DAYLIGHT
DTSTART:20200329T030000
TZOFFSETFROM:+0100
TZOFFSETTO:+0200
TZNAME:CEST
END:DAYLIGHT
END:VTIMEZONE
END:VCALENDAR