BEGIN:VCALENDAR
VERSION:2.0
PRODID:-//wp-events-plugin.com//7.2.3.1//EN
TZID:Europe/Warsaw
X-WR-TIMEZONE:Europe/Warsaw
BEGIN:VEVENT
UID:472@night4u.pl
DTSTART;TZID=Europe/Warsaw:20181225T220000
DTEND;TZID=Europe/Warsaw:20181226T050000
DTSTAMP:20181217T153159Z
URL:https://night4u.pl/wydarzenia/last-christmas-i-gave-you-my-heart-i-dzi
 en-swiat-wtorek/
SUMMARY:Last Christmas I gave you my heart - I dzień świąt | Wtorek
DESCRIPTION:Czy wyobrażacie sobie święta bez hitu grupy Wham!? ?\nNo wł
 aśnie... dlatego w pierwszy dzień świąt po obiadku u babci czas ruszy
 ć na miasto i spalić kalorie przy największych świątecznych hitach ws
 zech czasów ?⛄️\nNajlepsza muzyka w eleganckim wydaniu tylko w Prywat
 ce \n\nStart: 22:00\nSala główna: Disco & Dance lat 70' i 80' oraz hity 
 lat 90’ i 00'\nMała sala: Legendarne Polskie Przeboje\nWstęp: 10 PLN\n
 \nSTAŁA PROMOCJA NA KOKTAJLE\n? Piña Colada 10 PLN ?\n? Cuba Libre 10 PL
 N ?\n\n❗ŚWIĄTECZNA PROMOCJA NA STOLIKI REZERWACYJNE❗\n1️⃣ Rezerw
 acja od 2 do 4 osób - 0\,5L wódki Black Smirnoff + 1L napoju + bezpłatn
 e wejście - 125 PLN\n2️⃣ Rezerwacja od 5 do 8 osób - 2x 0\,5L wódki
  Black Smirnoff + 2L napoju + bezpłatne wejście - 250 PLN\n3️⃣Rezerw
 acja od 9 osób - 3x 0\,5L wódki Black Smirnoff + 3L napoju + bezpłatne 
 wejście - 375 PLN\nWięcej info: \n☎ +48 666 020 100\n\n? SYLWESTER W P
 RYWATCE Z NAJWIĘKSZYMI PRZEBOJAMI WSZECHCZASÓW ?\nSylwester 2018/2019 w 
 Prywatce | by Johnnie Walker Black Label
ATTACH;FMTTYPE=image/jpeg:https://night4u.pl/wp-content/uploads/2018/12/46
 32_image_47320900_335229297260229_2541700412424060928_o.jpg
CATEGORIES:łódzkie
LOCATION:Prywatka\, Andrzeja Struga 8/10\, Łódź\, 90-426\, Poland
GEO:51.765118;19.455113
X-APPLE-STRUCTURED-LOCATION;VALUE=URI;X-ADDRESS=Andrzeja Struga 8/10\, Łó
 dź\, 90-426\, Poland;X-APPLE-RADIUS=100;X-TITLE=Prywatka:geo:51.765118,19
 .455113
END:VEVENT
BEGIN:VTIMEZONE
TZID:Europe/Warsaw
X-LIC-LOCATION:Europe/Warsaw
BEGIN:STANDARD
DTSTART:20181028T020000
TZOFFSETFROM:+0200
TZOFFSETTO:+0100
TZNAME:CET
END:STANDARD
END:VTIMEZONE
END:VCALENDAR