BEGIN:VCALENDAR
VERSION:2.0
PRODID:-//wp-events-plugin.com//7.2.3.1//EN
TZID:Europe/Warsaw
X-WR-TIMEZONE:Europe/Warsaw
BEGIN:VEVENT
UID:40371@night4u.pl
DTSTART;TZID=Europe/Warsaw:20191227T210000
DTEND;TZID=Europe/Warsaw:20191228T050000
DTSTAMP:20191227T183926Z
URL:https://night4u.pl/wydarzenia/last-friday-dancer-piatek-27-12-club-80/
SUMMARY:Last Friday Dancer // Piątek 27.12 - Club 80
DESCRIPTION:LAST FRIDAY DANCER // Piątek 27.12 - Club 80\n\n27 grudnia zap
 raszamy na ostatnią w tym roku piątkową imprezę taneczną!🤩 Magiczn
 a muzyka lat 80 i 90\, miła atmosfera\, najlepsza zabawa to wszystko czek
 a na Was w Waszym ulubionym imprezowym miejscu - Club 80!\n--\n🎧 Imprez
 ę nakręca: DJ CIHY\n--\nℹ INFO\n\n➡ START: 🕘 21.00 | DOOR SELECTI
 ON\n\n➡ REZERWACJE\n⌨ https://club80gliwice.superboss.pl/\n\n➡ REGUL
 AMIN KLUBU\nhttps://bit.ly/2AqoA65\n\n➡ POROZMAWIAJ ONLINE \nm.me/Club80
 .Gliwice\n--\nwww.club80.pl\nwww.fb.com/Club80.Gliwice
ATTACH;FMTTYPE=image/jpeg:https://night4u.pl/wp-content/uploads/2019/12/12
 1891_image_79471110_2393863944055252_1860699885553057792_o.jpg
CATEGORIES:śląskie
LOCATION:Club 80 Gliwice\, Dubois 22\, Gliwice\, 44-100\, Poland
GEO:50.300203;18.672661
X-APPLE-STRUCTURED-LOCATION;VALUE=URI;X-ADDRESS=Dubois 22\, Gliwice\, 44-10
 0\, Poland;X-APPLE-RADIUS=100;X-TITLE=Club 80 Gliwice:geo:50.300203,18.672
 661
END:VEVENT
BEGIN:VTIMEZONE
TZID:Europe/Warsaw
X-LIC-LOCATION:Europe/Warsaw
BEGIN:STANDARD
DTSTART:20191027T020000
TZOFFSETFROM:+0200
TZOFFSETTO:+0100
TZNAME:CET
END:STANDARD
END:VTIMEZONE
END:VCALENDAR