BEGIN:VCALENDAR
VERSION:2.0
PRODID:-//wp-events-plugin.com//7.2.3.1//EN
TZID:Europe/Warsaw
X-WR-TIMEZONE:Europe/Warsaw
BEGIN:VEVENT
UID:20920@night4u.pl
DTSTART;TZID=Europe/Warsaw:20190712T200000
DTEND;TZID=Europe/Warsaw:20190713T030000
DTSTAMP:20190704T024029Z
URL:https://night4u.pl/wydarzenia/last-friday-night-hulakula/
SUMMARY:Last Friday Night | Hulakula
DESCRIPTION:Na pewno zanuciliście właśnie hit Katy Perry! Niezaprzeczaln
 ie Last Friday Night to jeden z lepszych imprezowych kawałków\, którego
  nie zabraknie w piątek 12. lipca.\nZarejestruj się na wydarzenie i wejd
 ź za free - dostępnych 100 bezpłatnych wejściówek!\n\nSala główna: 
 dj Poniecki | klubowo\nOgródek: dj Pierr | disco-polo\n\nRezerwacja loży
  / stolików oraz pakietów imprezowych: https://rezerwacje.hulakula.com.p
 l\n\n__________________\nInformacje organizacyjne:\nData: 12/7/2019 \nStar
 t imprezy: 20:00\nSala główna: Poniecki | klubowo\nOgródek: dj Pierr | 
 disco-polo\nWstęp 18+\nBilet: 15 zł \nDarmowy wstęp: \n- posiadacze kar
 t VIP Cashback Hulakula\,\n- osoby obchodzące w tym dniu urodziny lub imi
 eniny.\n\nW celu zapewnienia gościom klubu bezpieczeństwa oraz komfortu 
 zabawy w lokalu obowiązuje selekcja\, która dotyczy to również osób u
 mieszczonych na listach gości\, posiadających ogólnodostępne zaproszen
 ia lub wcześniejszą rezerwację loży w klubie\, wykupiony bilet lub kar
 tę VIP Cashback Hulakula.
ATTACH;FMTTYPE=image/jpeg:https://night4u.pl/wp-content/uploads/2019/07/50
 051_image_65422935_10158500361384128_5450073598930714624_o.jpg
CATEGORIES:mazowieckie
LOCATION:Hulakula Rozrywkowe Centrum Miasta\, ul. Jagiellońska 82b\, Warsa
 w\, 03-301\, Poland
GEO:52.273342;21.017125
X-APPLE-STRUCTURED-LOCATION;VALUE=URI;X-ADDRESS=ul. Jagiellońska 82b\, War
 saw\, 03-301\, Poland;X-APPLE-RADIUS=100;X-TITLE=Hulakula Rozrywkowe Centr
 um Miasta:geo:52.273342,21.017125
END:VEVENT
BEGIN:VTIMEZONE
TZID:Europe/Warsaw
X-LIC-LOCATION:Europe/Warsaw
BEGIN:DAYLIGHT
DTSTART:20190331T030000
TZOFFSETFROM:+0100
TZOFFSETTO:+0200
TZNAME:CEST
END:DAYLIGHT
END:VTIMEZONE
END:VCALENDAR