BEGIN:VCALENDAR
VERSION:2.0
PRODID:-//wp-events-plugin.com//7.2.3.1//EN
TZID:Europe/Warsaw
X-WR-TIMEZONE:Europe/Warsaw
BEGIN:VEVENT
UID:36501@night4u.pl
DTSTART;TZID=Europe/Warsaw:20191228T220000
DTEND;TZID=Europe/Warsaw:20191229T030000
DTSTAMP:20191227T212601Z
URL:https://night4u.pl/wydarzenia/latin-fever-biforek-sylwestrowy/
SUMMARY:Latin Fever - Biforek Sylwestrowy
DESCRIPTION:Latin Fever - Biforek Sylwestrowy    sobota  28 grudnia 2019\n\
 n57 !!! z cyklu SOBOTNICH IMPREZ TANECZNYCH organizowanych w sercu Warszaw
 y odbędzie się 28.12.2019\n\nNa pewno już wiecie gdzie spędzicie noc s
 ylwestrową ? i bardzo dobrze :) ... może w jednej ze szkół tańca\, mo
 że na domówce lub na wielkim balu albo spontanicznie wybierzecie się gd
 zieś w ostatniej chwili … \nale zanim ta noc nastąpi to ja wiem :) gdz
 ie pójdziemy wszyscy na Sylwestrowego biforka … i  to będzie doskonał
 a okazja abyśmy mogli spotkać się wszyscy w jednym miejscu i jak to na 
 Latin Fever zawsze bywa bawić się\, uśmiechać do siebie i tańczyć w 
 naszych ulubionych rytmach salsy\, bachaty i kizomby \n\nZ wielką radośc
 ią SERDECZNIE ZAPRASZAMY Znajomych - bliższych\, dalszych i tych\, któr
 ych dopiero poznamy.\n\nZadbamy o to\, żeby każdy Uczestnik zabawy czuł
  się komfortowo. Nasi Goście są najważniejsi i dlatego:\nnad oprawą m
 uzyczną LATIN FEVER będą zawsze czuwali NAJLEPSI Z NAJLEPSZYCH !!!\n...
 \nPARTY KIZOMBA pokieruje Dj LEAO\, jesteśmy pewni\, że przygotuje dla n
 as na tą okazję jak zawsze dużo świetnej kizombowej muzy i współczes
 nych nurtów jak ghetto zouk czy urban kiz\n...\nPARTY SALSA - BACHATA - t
 utaj zakręcą i rozkołyszą Was Dj GRECCO  i Dj CABO  którzy jak alchem
 icy wyważą proporcje utworów SALSOWYCH i BACHATOWYCH.\n\nTradycyjnie za
 bieramy Was do naszego ulubionego Klubu Medyk ( Warszawa ul.Oczki 1a)\, gd
 zie jest doskonała przestrzeń do imprezowania - porządne parkiety\, ele
 gancko-artystyczne wnętrza\, fajne zaplecze\, ekstra bar proponujący nap
 oje w przystępnych cenach i w dodatku z promocyjnym cennikiem happy hours
 .\n\nW Medyku uleczymy wszelkie troski przy użyciu całkowicie legalnych 
 suplementów: Salsa - Bachata - Kizomba\n\nOczywiście z okazji kolejnej 5
 7 !!! już LATIN FEVER szykujemy NIESPODZIANKI\n\nNaszą zabawę uświetni
  zapisując ją w obrazach Mariusz Solecki. Nie krępujcie się poprosić 
 go o fotkę. W jego obiektywie\, każdy jest gwiazdą. Ekstra zabawę będ
 zie można przypomnieć sobie oglądając galerię\, którą zamieścimy p
 o imprezie na fanpage'u Latin Fever.\n\nTo teraz esencja informacji:\nTerm
 in: SOBOTA 28.12.2019\nod godz 22:00 już Was witamy zapraszając do tańc
 a\n\nDwa parkiety:\nDj Leao- kizomba\, tarraxinha\, semba\, urban kiz \nDj
  Grecco - salsa\, mambo / Dj Cabo - bachata\n\nWstęp 15 zł - płatność
  tylko gotówką ( Entry fee 15 zł - only cash ) \n( szatnia / cloakroom 
 2 zł )\nHappy hours 22:00 - 23:00 ( piwo 6 zł \, shot z wódki 6 zł\, d
 rink cuba libre i inny nie mniej pyszny \;) 12 zł )\n\nZrobimy co w nasze
 j mocy\, żebyście BAWILI SIĘ FANTASTYCZNIE i byli z nami na kolejnych L
 ATIN FEVER :)\nSERDECZNIE ZAPRASZAMY Do zobaczenia!\n---------------------
 ----------------------------------------------------------------------\nUw
 aga: Uczestnicy imprezy przyjmują do wiadomości\, że wstęp na teren im
 prezy\, jest równoznaczny z udzieleniem zgody na nieodpłatne fotografowa
 nie\, filmowanie lub dokonywanie innego rodzaju zapisu jego osoby\, w zwi
 ązku z imprezą oraz transmitowanie\, rozpowszechnianie lub przekazywanie
  głosu i wizerunku w związku z jakimkolwiek programem przedstawiającym 
 imprezę.
ATTACH;FMTTYPE=image/jpeg:https://night4u.pl/wp-content/uploads/2019/11/10
 0344_image_75392771_2645425405549843_1890265611490033664_o.jpg
CATEGORIES:mazowieckie
LOCATION:Klubokawiarnia Medyka\, Oczki 1a\, Ochota\, 02-007\, Poland
GEO:52.224367;21.001143
X-APPLE-STRUCTURED-LOCATION;VALUE=URI;X-ADDRESS=Oczki 1a\, Ochota\, 02-007\
 , Poland;X-APPLE-RADIUS=100;X-TITLE=Klubokawiarnia Medyka:geo:52.224367,21
 .001143
END:VEVENT
BEGIN:VTIMEZONE
TZID:Europe/Warsaw
X-LIC-LOCATION:Europe/Warsaw
BEGIN:STANDARD
DTSTART:20191027T020000
TZOFFSETFROM:+0200
TZOFFSETTO:+0100
TZNAME:CET
END:STANDARD
END:VTIMEZONE
END:VCALENDAR