BEGIN:VCALENDAR
VERSION:2.0
PRODID:-//wp-events-plugin.com//7.2.3.1//EN
TZID:Europe/Warsaw
X-WR-TIMEZONE:Europe/Warsaw
BEGIN:VEVENT
UID:6041@night4u.pl
DTSTART;TZID=Europe/Warsaw:20190214T210000
DTEND;TZID=Europe/Warsaw:20190215T050000
DTSTAMP:20190201T053228Z
URL:https://night4u.pl/wydarzenia/latino-czwartek-wpia-vol-2-%e2%98%85-sta
 rs/
SUMMARY:Latino Czwartek WPiA vol. 2 ★ STARS
DESCRIPTION:??????????\n\nSukces pierwszego LATINO CZWARTKU musiał zaowoco
 wać kolejnym wydarzeniem! Walentynkowe LATINO\, będzie sensualnie! \n\nP
 rzez zdecydowaną większość nocy grać będziemy gorące południowe ry
 tmy! Wspólnie z Havana Club upijemy Was najlepszym kubańskim RUMEM! Wejd
 źmy w KARNAWAŁ w rytmie LATINO. \n\n??????????\n\n\nStudent Bar PROMO:\n
 drink\,shot\,piwo - 6PLN\n\nHavana + Soft 12 PLN\n\n\n\n------------------
 ------------------------------------------------------------------------\n
 Muzycznie:\n\n- CTITE \n\nWstęp:\n\n- studenci (wszystkie uczelnie)\, dok
 toranci\, absolwenci UMK - FREE\n- reszta świata do 23:00 - 5PLN\n- reszt
 a świata po 23:00 - 10PLN\n- karty "Star of Stars": FREE (z osobą towarz
 yszącą)\,\n- karty "Queen of Stars": FREE.\n\n\nPamiętajcie o stroju\, 
 bo jest selekcja. Nie trzeba się jej bać\, zresztą zerknijcie w nasze g
 alerie\, żeby zobaczyć jak to od wewnątrz wygląda. Nie wymagamy kreacj
 i wieczorowych ale schludny strój casualowy/klubowy jest wskazany ... to 
 tak\, żebyśmy wszyscy dobrze się czuli.\n\nMinimum wiekowe: 21 (lub leg
 itymacja studencka)\n\nStars Club & Lounge\nBulwar Filadelfijski 11\n87-10
 0 Toruń\n\nInternet: www.klubstars.pl\nE-mail: stars@klubstars.pl\n\nReze
 rwacje: +48 516857514
ATTACH;FMTTYPE=image/jpeg:https://night4u.pl/wp-content/uploads/2019/01/18
 108_image_50667364_1025919204275525_1103853908431732736_o.jpg
CATEGORIES:kujawsko-pomorskie
LOCATION:Klub Stars\, Bulwar Filadelfijski 11\, Torun\, 87-100\, Poland
GEO:53.007579;18.598323
X-APPLE-STRUCTURED-LOCATION;VALUE=URI;X-ADDRESS=Bulwar Filadelfijski 11\, T
 orun\, 87-100\, Poland;X-APPLE-RADIUS=100;X-TITLE=Klub Stars:geo:53.007579
 ,18.598323
END:VEVENT
BEGIN:VTIMEZONE
TZID:Europe/Warsaw
X-LIC-LOCATION:Europe/Warsaw
BEGIN:STANDARD
DTSTART:20181028T020000
TZOFFSETFROM:+0200
TZOFFSETTO:+0100
TZNAME:CET
END:STANDARD
END:VTIMEZONE
END:VCALENDAR